BEGIN:VCALENDAR
VERSION:2.0
PRODID:-//ARR.News Store - ECPv6.15.17//NONSGML v1.0//EN
CALSCALE:GREGORIAN
METHOD:PUBLISH
X-ORIGINAL-URL:https://arrnews.store
X-WR-CALDESC:Events for ARR.News Store
REFRESH-INTERVAL;VALUE=DURATION:PT1H
X-Robots-Tag:noindex
X-PUBLISHED-TTL:PT1H
BEGIN:VTIMEZONE
TZID:Australia/Brisbane
BEGIN:STANDARD
TZOFFSETFROM:+1000
TZOFFSETTO:+1000
TZNAME:AEST
DTSTART:20250101T000000
END:STANDARD
END:VTIMEZONE
BEGIN:VEVENT
DTSTART;VALUE=DATE:20260530
DTEND;VALUE=DATE:20260531
DTSTAMP:20260422T191648
CREATED:20240526T105448Z
LAST-MODIFIED:20250723T202115Z
UID:10000129-1780099200-1780185599@arrnews.store
SUMMARY:Ridgelands Show\, 30 May 2026
DESCRIPTION:
URL:https://arrnews.store/event/ridgelands-show-30-may-2026
LOCATION:Ridgelands Showgrounds\, P7XG+QX\, Ridgelands\, Queensland\, 4702\, Australia
CATEGORIES:Agricultural shows
END:VEVENT
END:VCALENDAR