BEGIN:VCALENDAR
VERSION:2.0
PRODID:-//ARR.News Store - ECPv6.15.17//NONSGML v1.0//EN
CALSCALE:GREGORIAN
METHOD:PUBLISH
X-ORIGINAL-URL:https://arrnews.store
X-WR-CALDESC:Events for ARR.News Store
REFRESH-INTERVAL;VALUE=DURATION:PT1H
X-Robots-Tag:noindex
X-PUBLISHED-TTL:PT1H
BEGIN:VTIMEZONE
TZID:Australia/Brisbane
BEGIN:STANDARD
TZOFFSETFROM:+1000
TZOFFSETTO:+1000
TZNAME:AEST
DTSTART:20250101T000000
END:STANDARD
END:VTIMEZONE
BEGIN:VEVENT
DTSTART;VALUE=DATE:20260306
DTEND;VALUE=DATE:20260308
DTSTAMP:20260422T105327
CREATED:20240307T100516Z
LAST-MODIFIED:20250719T111130Z
UID:10000084-1772755200-1772927999@arrnews.store
SUMMARY:Pittsworth Show\, 6-7 March 2026
DESCRIPTION:
URL:https://arrnews.store/event/pittsworth-show-6-7-march-2026
LOCATION:Pittsworth Showgrounds\, 7JPR+PQF\, Pittsworth\, Queensland\, 4356\, Australia
CATEGORIES:Agricultural shows
END:VEVENT
END:VCALENDAR