BEGIN:VCALENDAR
VERSION:2.0
PRODID:-//ARR.News Store - ECPv6.15.17//NONSGML v1.0//EN
CALSCALE:GREGORIAN
METHOD:PUBLISH
X-WR-CALNAME:ARR.News Store
X-ORIGINAL-URL:https://arrnews.store
X-WR-CALDESC:Events for ARR.News Store
REFRESH-INTERVAL;VALUE=DURATION:PT1H
X-Robots-Tag:noindex
X-PUBLISHED-TTL:PT1H
BEGIN:VTIMEZONE
TZID:Australia/Brisbane
BEGIN:STANDARD
TZOFFSETFROM:+1000
TZOFFSETTO:+1000
TZNAME:AEST
DTSTART:20250101T000000
END:STANDARD
END:VTIMEZONE
BEGIN:VEVENT
DTSTART;VALUE=DATE:20260228
DTEND;VALUE=DATE:20260302
DTSTAMP:20260422T103732
CREATED:20250103T233902Z
LAST-MODIFIED:20250719T110958Z
UID:10000563-1772236800-1772409599@arrnews.store
SUMMARY:Millmerran Show\, 28 February - 1 March\, 2026
DESCRIPTION:
URL:https://arrnews.store/event/millmerran-show-1-2-march-2025
LOCATION:Millmerran Showground\, 47QG+PJ\, Millmerran\, Queensland\, 4357\, Australia
CATEGORIES:Agricultural shows
END:VEVENT
END:VCALENDAR