BEGIN:VCALENDAR
VERSION:2.0
PRODID:-//ARR.News Store - ECPv6.15.17//NONSGML v1.0//EN
CALSCALE:GREGORIAN
METHOD:PUBLISH
X-WR-CALNAME:ARR.News Store
X-ORIGINAL-URL:https://arrnews.store
X-WR-CALDESC:Events for ARR.News Store
REFRESH-INTERVAL;VALUE=DURATION:PT1H
X-Robots-Tag:noindex
X-PUBLISHED-TTL:PT1H
BEGIN:VTIMEZONE
TZID:Australia/Brisbane
BEGIN:STANDARD
TZOFFSETFROM:+1000
TZOFFSETTO:+1000
TZNAME:AEST
DTSTART:20250101T000000
END:STANDARD
END:VTIMEZONE
BEGIN:VEVENT
DTSTART;VALUE=DATE:20260320
DTEND;VALUE=DATE:20260322
DTSTAMP:20260420T175146
CREATED:20250103T232019Z
LAST-MODIFIED:20250719T135325Z
UID:10000117-1773964800-1774137599@arrnews.store
SUMMARY:Goomeri Show\, 20-21 March 2026
DESCRIPTION:
URL:https://arrnews.store/event/goomeri-show-20-21-march-2026
LOCATION:Goomeri Showground\, R37C+74M\, Goomeri\, Queensland\, 4601\, Australia
CATEGORIES:Agricultural shows
END:VEVENT
BEGIN:VEVENT
DTSTART;VALUE=DATE:20260320
DTEND;VALUE=DATE:20260323
DTSTAMP:20260420T175146
CREATED:20250104T072817Z
LAST-MODIFIED:20250719T135418Z
UID:10000115-1773964800-1774223999@arrnews.store
SUMMARY:Warwick Show\, 20-22 March 2026
DESCRIPTION:
URL:https://arrnews.store/event/warwick-show-20-22-march-2026
LOCATION:Warwick Showground\, Q2FM+7Q5\, Warwick\, Queensland\, 4370\, Australia
CATEGORIES:Agricultural shows
END:VEVENT
BEGIN:VEVENT
DTSTART;VALUE=DATE:20260321
DTEND;VALUE=DATE:20260322
DTSTAMP:20260420T175146
CREATED:20240305T120938Z
LAST-MODIFIED:20250719T135533Z
UID:10000083-1774051200-1774137599@arrnews.store
SUMMARY:Jandowae Show\, 21 March 2026
DESCRIPTION:
URL:https://arrnews.store/event/jandowae-show-21-march-2026
LOCATION:Jandowae Racecourse\, 6466+24C\, Jandowae\, Queensland\, 4410\, Australia
CATEGORIES:Agricultural shows
END:VEVENT
BEGIN:VEVENT
DTSTART;VALUE=DATE:20260321
DTEND;VALUE=DATE:20260322
DTSTAMP:20260420T175146
CREATED:20250104T072120Z
LAST-MODIFIED:20250719T135451Z
UID:10000568-1774051200-1774137599@arrnews.store
SUMMARY:Tamborine Mountain Show\, 21 March 2026
DESCRIPTION:
URL:https://arrnews.store/event/tamborine-mountain-show-21-march-2026
LOCATION:Tamborine Mountain Showgrounds\, 25VM+3R\, Tamborine Mountain\, Queensland\, 4272\, Australia
CATEGORIES:Agricultural shows
END:VEVENT
END:VCALENDAR