BEGIN:VCALENDAR
VERSION:2.0
PRODID:-//ARR.News Store - ECPv6.15.17//NONSGML v1.0//EN
CALSCALE:GREGORIAN
METHOD:PUBLISH
X-WR-CALNAME:ARR.News Store
X-ORIGINAL-URL:https://arrnews.store
X-WR-CALDESC:Events for ARR.News Store
REFRESH-INTERVAL;VALUE=DURATION:PT1H
X-Robots-Tag:noindex
X-PUBLISHED-TTL:PT1H
BEGIN:VTIMEZONE
TZID:Australia/Sydney
BEGIN:STANDARD
TZOFFSETFROM:+1100
TZOFFSETTO:+1000
TZNAME:AEST
DTSTART:20250405T160000
END:STANDARD
BEGIN:DAYLIGHT
TZOFFSETFROM:+1000
TZOFFSETTO:+1100
TZNAME:AEDT
DTSTART:20251004T160000
END:DAYLIGHT
BEGIN:STANDARD
TZOFFSETFROM:+1100
TZOFFSETTO:+1000
TZNAME:AEST
DTSTART:20260404T160000
END:STANDARD
BEGIN:DAYLIGHT
TZOFFSETFROM:+1000
TZOFFSETTO:+1100
TZNAME:AEDT
DTSTART:20261003T160000
END:DAYLIGHT
BEGIN:STANDARD
TZOFFSETFROM:+1100
TZOFFSETTO:+1000
TZNAME:AEST
DTSTART:20270403T160000
END:STANDARD
BEGIN:DAYLIGHT
TZOFFSETFROM:+1000
TZOFFSETTO:+1100
TZNAME:AEDT
DTSTART:20271002T160000
END:DAYLIGHT
END:VTIMEZONE
BEGIN:VEVENT
DTSTART;VALUE=DATE:20260320
DTEND;VALUE=DATE:20260322
DTSTAMP:20260422T110107
CREATED:20241015T223712Z
LAST-MODIFIED:20250710T161441Z
UID:10000287-1773964800-1774137599@arrnews.store
SUMMARY:Camden Haven Show\, 20-21 March 2026
DESCRIPTION:
URL:https://arrnews.store/event/camden-haven-show-20-21-march-2026
LOCATION:Kendall Showground\, 9P63+V97\, Kendall\, New South Wales\, 2439\, Australia
CATEGORIES:Agricultural shows
END:VEVENT
BEGIN:VEVENT
DTSTART;VALUE=DATE:20260320
DTEND;VALUE=DATE:20260322
DTSTAMP:20260422T110107
CREATED:20250112T114351Z
LAST-MODIFIED:20250710T161609Z
UID:10000592-1773964800-1774137599@arrnews.store
SUMMARY:Gloucester Show\, 20-21 March 2026
DESCRIPTION:
URL:https://arrnews.store/event/gloucester-show-20-21-march-2026
LOCATION:Gloucester Showground\, 2X32+CM\, Gloucester\, New South Wales\, 2422\, Australia
CATEGORIES:Agricultural shows
END:VEVENT
BEGIN:VEVENT
DTSTART;VALUE=DATE:20260320
DTEND;VALUE=DATE:20260322
DTSTAMP:20260422T110107
CREATED:20250710T161524Z
LAST-MODIFIED:20250710T161524Z
UID:10000588-1773964800-1774137599@arrnews.store
SUMMARY:Baradine Show\, 20-21 March 2026
DESCRIPTION:
URL:https://arrnews.store/event/baradine-show-20-21-march-2026
LOCATION:Baradine Showgrounds\, 3323+Q5J\, Baradine\, New South Wales\, 2396\, Australia
CATEGORIES:Agricultural shows
END:VEVENT
BEGIN:VEVENT
DTSTART;VALUE=DATE:20260320
DTEND;VALUE=DATE:20260323
DTSTAMP:20260422T110107
CREATED:20250103T213911Z
LAST-MODIFIED:20250710T161657Z
UID:10000113-1773964800-1774223999@arrnews.store
SUMMARY:Upper Hunter Show\, 20-22 March 2026
DESCRIPTION:
URL:https://arrnews.store/event/upper-hunter-show-20-22-march-2026
LOCATION:Muswellbrook Showground\, PVCW+8J\, Muswellbrook\, New South Wales\, 2333\, Australia
CATEGORIES:Agricultural shows
END:VEVENT
BEGIN:VEVENT
DTSTART;VALUE=DATE:20260320
DTEND;VALUE=DATE:20260323
DTSTAMP:20260422T110107
CREATED:20250104T080846Z
LAST-MODIFIED:20250710T161733Z
UID:10000493-1773964800-1774223999@arrnews.store
SUMMARY:Bingara Show\, 21-22 March 2026
DESCRIPTION:
URL:https://arrnews.store/event/bingara-show-21-22-march-2026
LOCATION:Bingara Showgrounds\, 4HJ5+FJ7\, Bingara\, New South Wales\, 2404\, Australia
CATEGORIES:Agricultural shows
END:VEVENT
BEGIN:VEVENT
DTSTART;VALUE=DATE:20260321
DTEND;VALUE=DATE:20260322
DTSTAMP:20260422T110107
CREATED:20250112T093322Z
LAST-MODIFIED:20250710T164028Z
UID:10000590-1774051200-1774137599@arrnews.store
SUMMARY:Tumbarumba Show\, 21 March 2026
DESCRIPTION:
URL:https://arrnews.store/event/tumbarumba-show-21-march-2026
LOCATION:Tumbarumba Showgrounds\, 62H5+6F\, Tumbarumba\, New South Wales\, 2653\, Australia
CATEGORIES:Agricultural shows
END:VEVENT
BEGIN:VEVENT
DTSTART;VALUE=DATE:20260321
DTEND;VALUE=DATE:20260322
DTSTAMP:20260422T110107
CREATED:20251206T034234Z
LAST-MODIFIED:20251206T034234Z
UID:10000653-1774051200-1774137599@arrnews.store
SUMMARY:Yass Show\, 21 March 2026
DESCRIPTION:
URL:https://arrnews.store/event/yass-show-21-march-2026
LOCATION:Yass Showground\, 5W5F+45\, Yass\, New South Wales\, 2582\, Australia
CATEGORIES:Agricultural shows
END:VEVENT
BEGIN:VEVENT
DTSTART;VALUE=DATE:20260321
DTEND;VALUE=DATE:20260323
DTSTAMP:20260422T110107
CREATED:20250112T070151Z
LAST-MODIFIED:20250710T161850Z
UID:10000589-1774051200-1774223999@arrnews.store
SUMMARY:Bombala Show\, 21-22 March 2026
DESCRIPTION:
URL:https://arrnews.store/event/bombala-show-21-22-march-2026
LOCATION:Bombala Exhibition Ground\, 36PR+FHC\, Bombala\, New South Wales\, 2632\, Australia
CATEGORIES:Agricultural shows
END:VEVENT
END:VCALENDAR