BEGIN:VCALENDAR
VERSION:2.0
PRODID:-//ARR.News Store - ECPv6.15.17//NONSGML v1.0//EN
CALSCALE:GREGORIAN
METHOD:PUBLISH
X-ORIGINAL-URL:https://arrnews.store
X-WR-CALDESC:Events for ARR.News Store
REFRESH-INTERVAL;VALUE=DURATION:PT1H
X-Robots-Tag:noindex
X-PUBLISHED-TTL:PT1H
BEGIN:VTIMEZONE
TZID:Australia/Sydney
BEGIN:STANDARD
TZOFFSETFROM:+1100
TZOFFSETTO:+1000
TZNAME:AEST
DTSTART:20250405T160000
END:STANDARD
BEGIN:DAYLIGHT
TZOFFSETFROM:+1000
TZOFFSETTO:+1100
TZNAME:AEDT
DTSTART:20251004T160000
END:DAYLIGHT
BEGIN:STANDARD
TZOFFSETFROM:+1100
TZOFFSETTO:+1000
TZNAME:AEST
DTSTART:20260404T160000
END:STANDARD
BEGIN:DAYLIGHT
TZOFFSETFROM:+1000
TZOFFSETTO:+1100
TZNAME:AEDT
DTSTART:20261003T160000
END:DAYLIGHT
BEGIN:STANDARD
TZOFFSETFROM:+1100
TZOFFSETTO:+1000
TZNAME:AEST
DTSTART:20270403T160000
END:STANDARD
BEGIN:DAYLIGHT
TZOFFSETFROM:+1000
TZOFFSETTO:+1100
TZNAME:AEDT
DTSTART:20271002T160000
END:DAYLIGHT
END:VTIMEZONE
BEGIN:VTIMEZONE
TZID:Australia/Melbourne
BEGIN:STANDARD
TZOFFSETFROM:+1100
TZOFFSETTO:+1000
TZNAME:AEST
DTSTART:20250405T160000
END:STANDARD
BEGIN:DAYLIGHT
TZOFFSETFROM:+1000
TZOFFSETTO:+1100
TZNAME:AEDT
DTSTART:20251004T160000
END:DAYLIGHT
BEGIN:STANDARD
TZOFFSETFROM:+1100
TZOFFSETTO:+1000
TZNAME:AEST
DTSTART:20260404T160000
END:STANDARD
BEGIN:DAYLIGHT
TZOFFSETFROM:+1000
TZOFFSETTO:+1100
TZNAME:AEDT
DTSTART:20261003T160000
END:DAYLIGHT
BEGIN:STANDARD
TZOFFSETFROM:+1100
TZOFFSETTO:+1000
TZNAME:AEST
DTSTART:20270403T160000
END:STANDARD
BEGIN:DAYLIGHT
TZOFFSETFROM:+1000
TZOFFSETTO:+1100
TZNAME:AEDT
DTSTART:20271002T160000
END:DAYLIGHT
END:VTIMEZONE
BEGIN:VEVENT
DTSTART;VALUE=DATE:20260501
DTEND;VALUE=DATE:20260504
DTSTAMP:20260422T103731
CREATED:20250406T093026Z
LAST-MODIFIED:20250713T121759Z
UID:10000456-1777593600-1777852799@arrnews.store
SUMMARY:Bathurst Royal Show\, 1-3 May 2026
DESCRIPTION:
URL:https://arrnews.store/event/bathurst-royal-show-1-3-may-2026
LOCATION:Bathurst Showground\, HHJQ+VQ\, Bathurst\, New South Wales\, 2795\, Australia
CATEGORIES:Agricultural shows
END:VEVENT
BEGIN:VEVENT
DTSTART;VALUE=DATE:20260501
DTEND;VALUE=DATE:20260504
DTSTAMP:20260422T103731
CREATED:20250406T093834Z
LAST-MODIFIED:20250713T121929Z
UID:10000486-1777593600-1777852799@arrnews.store
SUMMARY:Narrabri Show\, 1-3 May 2026
DESCRIPTION:
URL:https://arrnews.store/event/narrabri-show-1-3-may-2026
LOCATION:Narrabri Showground\, MQ77+HC5\, Narrabri\, New South Wales\, 2390\, Australia
CATEGORIES:Agricultural shows
END:VEVENT
BEGIN:VEVENT
DTSTART;VALUE=DATE:20260501
DTEND;VALUE=DATE:20260504
DTSTAMP:20260422T103732
CREATED:20250413T093148Z
LAST-MODIFIED:20250713T121834Z
UID:10000464-1777593600-1777852799@arrnews.store
SUMMARY:Coffs Harbour Horse Show\, 1-3 May 2026
DESCRIPTION:
URL:https://arrnews.store/event/coffs-harbour-horse-show-1-3-may-2026
LOCATION:Nana Glen Equestrian Grounds\, V2C9+VC\, Nana Glen\, New South Wales\, 2450\, Australia
CATEGORIES:Agricultural shows
END:VEVENT
BEGIN:VEVENT
DTSTART;VALUE=DATE:20260507
DTEND;VALUE=DATE:20260511
DTSTAMP:20260422T103732
CREATED:20250413T080641Z
LAST-MODIFIED:20250713T122120Z
UID:10000490-1778112000-1778457599@arrnews.store
SUMMARY:Warialda Show\, 7-10 May 2026
DESCRIPTION:
URL:https://arrnews.store/event/warialda-show-7-10-may-2026
LOCATION:Warialda Showgrounds\, FH58+4Q8\, Warialda\, 2402\, Australia
CATEGORIES:Agricultural shows
END:VEVENT
BEGIN:VEVENT
DTSTART;VALUE=DATE:20260509
DTEND;VALUE=DATE:20260511
DTSTAMP:20260422T103732
CREATED:20241228T211129Z
LAST-MODIFIED:20250713T122204Z
UID:10000487-1778284800-1778457599@arrnews.store
SUMMARY:Bellingen Show\, 9-10 May 2026
DESCRIPTION:
URL:https://arrnews.store/event/bellingen-show-9-10-may-2026
LOCATION:Bellingen Showgrounds\, HV3X+49\, Bellingen\, New South Wales\, 2454\, Australia
CATEGORIES:Agricultural shows
END:VEVENT
BEGIN:VEVENT
DTSTART;VALUE=DATE:20260509
DTEND;VALUE=DATE:20260511
DTSTAMP:20260422T103732
CREATED:20250112T115354Z
LAST-MODIFIED:20250713T122352Z
UID:10000594-1778284800-1778457599@arrnews.store
SUMMARY:Walgett Show\, 9-10 May 2026
DESCRIPTION:
URL:https://arrnews.store/event/walgett-show-9-10-may-2026
LOCATION:Walgett Racecourse and Showground\, 4RXCX4HP+25\, Walgett\, New South Wales\, 2832\, Australia
CATEGORIES:Agricultural shows
END:VEVENT
BEGIN:VEVENT
DTSTART;VALUE=DATE:20260509
DTEND;VALUE=DATE:20260511
DTSTAMP:20260422T103732
CREATED:20250413T094705Z
LAST-MODIFIED:20250713T122308Z
UID:10000466-1778284800-1778457599@arrnews.store
SUMMARY:Orange Show\, 9-10 May 2026
DESCRIPTION:
URL:https://arrnews.store/event/orange-show-9-10-may-2026
LOCATION:Orange Showground\, P4H6+M8R\, Orange\, New South Wales\, 2800\, Australia
CATEGORIES:Agricultural shows
END:VEVENT
BEGIN:VEVENT
DTSTART;VALUE=DATE:20260512
DTEND;VALUE=DATE:20260513
DTSTAMP:20260422T103732
CREATED:20250413T095542Z
LAST-MODIFIED:20250713T122432Z
UID:10000468-1778544000-1778630399@arrnews.store
SUMMARY:Yeoval Show\, 12 May 2026
DESCRIPTION:
URL:https://arrnews.store/event/yeoval-show-12-may-2026
LOCATION:Yeoval Showground\, 7J4V+VX\, Yeoval\, New South Wales\, 2868\, Australia
CATEGORIES:Agricultural shows
END:VEVENT
BEGIN:VEVENT
DTSTART;VALUE=DATE:20260515
DTEND;VALUE=DATE:20260517
DTSTAMP:20260422T103732
CREATED:20241230T221123Z
LAST-MODIFIED:20250713T122543Z
UID:10000485-1778803200-1778975999@arrnews.store
SUMMARY:Cobar Show\, 15-16 May 2026
DESCRIPTION:
URL:https://arrnews.store/event/cobar-show-15-16-may-2026
LOCATION:Ward Oval\, 4RW7FRWM+8M\, Cobar\, New South Wales\, 2835\, Australia
CATEGORIES:Agricultural shows
END:VEVENT
BEGIN:VEVENT
DTSTART;VALUE=DATE:20260515
DTEND;VALUE=DATE:20260517
DTSTAMP:20260422T103732
CREATED:20250422T120952Z
LAST-MODIFIED:20250715T174802Z
UID:10000488-1778803200-1778975999@arrnews.store
SUMMARY:149th Annual Wellington Show\, 15-16 May 2026
DESCRIPTION:
URL:https://arrnews.store/event/149th-annual-wellington-show-15-16-may-2026
LOCATION:Wellington Showgrounds\, CWVJ+FGC\, Mount Arthur\, New South Wales\, 2820\, Australia
CATEGORIES:Agricultural shows
END:VEVENT
BEGIN:VEVENT
DTSTART;VALUE=DATE:20260515
DTEND;VALUE=DATE:20260517
DTSTAMP:20260422T103732
CREATED:20260205T010901Z
LAST-MODIFIED:20260205T010901Z
UID:10000927-1778803200-1778975999@arrnews.store
SUMMARY:Mildura Field Days\, 15-16 May 2026
DESCRIPTION:
URL:https://arrnews.store/event/mildura-field-days-15-16-may-2026
LOCATION:Mildura Racecourse\, R676+973\, Nichols Point\, Victoria\, 3501\, Australia
CATEGORIES:Agricultural shows
END:VEVENT
BEGIN:VEVENT
DTSTART;VALUE=DATE:20260517
DTEND;VALUE=DATE:20260519
DTSTAMP:20260422T103732
CREATED:20250427T110705Z
LAST-MODIFIED:20250715T174849Z
UID:10000489-1778976000-1779148799@arrnews.store
SUMMARY:Nyngan Show\, 17-18 May 2026
DESCRIPTION:
URL:https://arrnews.store/event/nyngan-show-17-18-may-2026
LOCATION:Nyngan Showgrounds\, C5FX+X63\, Nyngan\, New South Wales\, 2825\, Australia
CATEGORIES:Agricultural shows
END:VEVENT
BEGIN:VEVENT
DTSTART;VALUE=DATE:20260520
DTEND;VALUE=DATE:20260523
DTSTAMP:20260422T103732
CREATED:20260206T002122Z
LAST-MODIFIED:20260206T002122Z
UID:10000930-1779235200-1779494399@arrnews.store
SUMMARY:Holbrook Sheep and Wool Fair\, 20-22 May 2026
DESCRIPTION:The Holbrook Sheep and Wool Fair runs on Wednesday 20 and Thursday 21 May 2026\, with the Group finals for the Meat Sheep and Merino Sheep young judges competitions on the morning of Friday 22 May 2026.
URL:https://arrnews.store/event/holbrook-sheep-and-wool-fair-20-22-may-2026
LOCATION:Holbrook Sporting Complex\, 78G9+78P\, Holbrook\, New South Wales\, 2644\, Australia
CATEGORIES:Expo
END:VEVENT
BEGIN:VEVENT
DTSTART;VALUE=DATE:20260522
DTEND;VALUE=DATE:20260525
DTSTAMP:20260422T103732
CREATED:20250427T112418Z
LAST-MODIFIED:20250715T174942Z
UID:10000491-1779408000-1779667199@arrnews.store
SUMMARY:Dubbo Show\, 22-24 May 2026
DESCRIPTION:
URL:https://arrnews.store/event/dubbo-show-22-24-may-2026
LOCATION:Dubbo Showground\, QJ38+6F\, Dubbo\, New South Wales\, 2830\, Australia
CATEGORIES:Agricultural shows
END:VEVENT
BEGIN:VEVENT
DTSTART;VALUE=DATE:20260526
DTEND;VALUE=DATE:20260528
DTSTAMP:20260422T103732
CREATED:20250715T175020Z
LAST-MODIFIED:20250715T175020Z
UID:10000492-1779753600-1779926399@arrnews.store
SUMMARY:Coonamble Show\, 26-27 May 2026
DESCRIPTION:
URL:https://arrnews.store/event/coonamble-show-26-27-may-2026
LOCATION:Coonamble Showground\, 29HP+Q72\, Coonamble\, New South Wales\, 2829\, Australia
CATEGORIES:Agricultural shows
END:VEVENT
BEGIN:VEVENT
DTSTART;VALUE=DATE:20260530
DTEND;VALUE=DATE:20260531
DTSTAMP:20260422T103732
CREATED:20250518T041106Z
LAST-MODIFIED:20250715T175119Z
UID:10000495-1780099200-1780185599@arrnews.store
SUMMARY:Gulargambone Show\, 30 May 2026
DESCRIPTION:
URL:https://arrnews.store/event/gulargambone-show-30-may-2026
LOCATION:Gulargambone Showground\, MF28+87\, Gulargambone\, New South Wales\, 2828\, Australia
CATEGORIES:Agricultural shows
END:VEVENT
END:VCALENDAR