BEGIN:VCALENDAR
VERSION:2.0
PRODID:-//ARR.News Store - ECPv6.15.17//NONSGML v1.0//EN
CALSCALE:GREGORIAN
METHOD:PUBLISH
X-WR-CALNAME:ARR.News Store
X-ORIGINAL-URL:https://arrnews.store
X-WR-CALDESC:Events for ARR.News Store
REFRESH-INTERVAL;VALUE=DURATION:PT1H
X-Robots-Tag:noindex
X-PUBLISHED-TTL:PT1H
BEGIN:VTIMEZONE
TZID:Australia/Sydney
BEGIN:STANDARD
TZOFFSETFROM:+1100
TZOFFSETTO:+1000
TZNAME:AEST
DTSTART:20230401T160000
END:STANDARD
BEGIN:DAYLIGHT
TZOFFSETFROM:+1000
TZOFFSETTO:+1100
TZNAME:AEDT
DTSTART:20230930T160000
END:DAYLIGHT
BEGIN:STANDARD
TZOFFSETFROM:+1100
TZOFFSETTO:+1000
TZNAME:AEST
DTSTART:20240406T160000
END:STANDARD
BEGIN:DAYLIGHT
TZOFFSETFROM:+1000
TZOFFSETTO:+1100
TZNAME:AEDT
DTSTART:20241005T160000
END:DAYLIGHT
BEGIN:STANDARD
TZOFFSETFROM:+1100
TZOFFSETTO:+1000
TZNAME:AEST
DTSTART:20250405T160000
END:STANDARD
BEGIN:DAYLIGHT
TZOFFSETFROM:+1000
TZOFFSETTO:+1100
TZNAME:AEDT
DTSTART:20251004T160000
END:DAYLIGHT
END:VTIMEZONE
BEGIN:VTIMEZONE
TZID:Australia/Adelaide
BEGIN:STANDARD
TZOFFSETFROM:+1030
TZOFFSETTO:+0930
TZNAME:ACST
DTSTART:20230401T163000
END:STANDARD
BEGIN:DAYLIGHT
TZOFFSETFROM:+0930
TZOFFSETTO:+1030
TZNAME:ACDT
DTSTART:20230930T163000
END:DAYLIGHT
BEGIN:STANDARD
TZOFFSETFROM:+1030
TZOFFSETTO:+0930
TZNAME:ACST
DTSTART:20240406T163000
END:STANDARD
BEGIN:DAYLIGHT
TZOFFSETFROM:+0930
TZOFFSETTO:+1030
TZNAME:ACDT
DTSTART:20241005T163000
END:DAYLIGHT
BEGIN:STANDARD
TZOFFSETFROM:+1030
TZOFFSETTO:+0930
TZNAME:ACST
DTSTART:20250405T163000
END:STANDARD
BEGIN:DAYLIGHT
TZOFFSETFROM:+0930
TZOFFSETTO:+1030
TZNAME:ACDT
DTSTART:20251004T163000
END:DAYLIGHT
END:VTIMEZONE
BEGIN:VTIMEZONE
TZID:Australia/Perth
BEGIN:STANDARD
TZOFFSETFROM:+0800
TZOFFSETTO:+0800
TZNAME:AWST
DTSTART:20230101T000000
END:STANDARD
END:VTIMEZONE
BEGIN:VTIMEZONE
TZID:Australia/Brisbane
BEGIN:STANDARD
TZOFFSETFROM:+1000
TZOFFSETTO:+1000
TZNAME:AEST
DTSTART:20230101T000000
END:STANDARD
END:VTIMEZONE
BEGIN:VEVENT
DTSTART;VALUE=DATE:20240928
DTEND;VALUE=DATE:20240929
DTSTAMP:20260420T095143
CREATED:20240920T014538Z
LAST-MODIFIED:20240920T014538Z
UID:10000264-1727481600-1727567999@arrnews.store
SUMMARY:Come By Chance Picnic Races\, 28 September 2024
DESCRIPTION:
URL:https://arrnews.store/event/come-by-chance-picnic-races-28-september-2024
LOCATION:Come By Chance Racecourse\, JFJ8+34\, Come by Chance\, New South Wales\, 2832
CATEGORIES:Picnic races
END:VEVENT
BEGIN:VEVENT
DTSTART;VALUE=DATE:20240928
DTEND;VALUE=DATE:20240929
DTSTAMP:20260420T095143
CREATED:20240918T224536Z
LAST-MODIFIED:20240918T224609Z
UID:10000230-1727481600-1727567999@arrnews.store
SUMMARY:Balaklava Show\, 28 September 2024
DESCRIPTION:
URL:https://arrnews.store/event/balaklava-28-september-2024
LOCATION:Ralli Park\, VC46+QW2\, Balaklava\, South Australia\, 5461\, Australia
CATEGORIES:Agricultural shows
END:VEVENT
BEGIN:VEVENT
DTSTART;VALUE=DATE:20240922
DTEND;VALUE=DATE:20240923
DTSTAMP:20260420T095143
CREATED:20240911T221641Z
LAST-MODIFIED:20240911T221641Z
UID:10000229-1726963200-1727049599@arrnews.store
SUMMARY:Quorn Show\, 22 September 2024
DESCRIPTION:
URL:https://arrnews.store/event/quorn-show-22-september-2024
LOCATION:Quorn Oval\, M25Q+8R\, Quorn\, 5433\, Australia
CATEGORIES:Agricultural shows
END:VEVENT
BEGIN:VEVENT
DTSTART;VALUE=DATE:20240921
DTEND;VALUE=DATE:20240929
DTSTAMP:20260420T095143
CREATED:20240911T220637Z
LAST-MODIFIED:20240911T220637Z
UID:10000247-1726876800-1727567999@arrnews.store
SUMMARY:Perth Royal Show\, 21-28 September 2024
DESCRIPTION:
URL:https://arrnews.store/event/royal-perth-show-21-september-28-october-2024
LOCATION:Claremont Showground\, 2QFP+Q5\, Claremont\, Western Australia\, 4721\, Australia
CATEGORIES:Agricultural shows
END:VEVENT
BEGIN:VEVENT
DTSTART;VALUE=DATE:20240921
DTEND;VALUE=DATE:20240922
DTSTAMP:20260420T095143
CREATED:20240909T231506Z
LAST-MODIFIED:20240909T231506Z
UID:10000228-1726876800-1726963199@arrnews.store
SUMMARY:Kimba Show\, 21 September 2024
DESCRIPTION:
URL:https://arrnews.store/event/kimba-show-21-september-2024
LOCATION:Kimba Showground\, VC87+8W\, Kimba\, South Australia\, 5641\, Australia
CATEGORIES:Agricultural shows
END:VEVENT
BEGIN:VEVENT
DTSTART;VALUE=DATE:20240915
DTEND;VALUE=DATE:20240916
DTSTAMP:20260420T095143
CREATED:20240904T230309Z
LAST-MODIFIED:20240904T230309Z
UID:10000227-1726358400-1726444799@arrnews.store
SUMMARY:Wilmington Agricultural Show\, 15 September 2024
DESCRIPTION:
URL:https://arrnews.store/event/wilmington-agricultural-show-15-september-2024
LOCATION:Wilmington Oval\, 932W+P2\, Wilmington\, 5485\, Australia
CATEGORIES:Agricultural shows
END:VEVENT
BEGIN:VEVENT
DTSTART;VALUE=DATE:20240914
DTEND;VALUE=DATE:20240915
DTSTAMP:20260420T095143
CREATED:20240909T223539Z
LAST-MODIFIED:20240909T223539Z
UID:10000263-1726272000-1726358399@arrnews.store
SUMMARY:Geurie Picnic Races\, 14 September 2024
DESCRIPTION:
URL:https://arrnews.store/event/geurie-picnic-races-14-september-2024
LOCATION:Geurie Racecourse Recreation Ground\, JR4R+P9\, Geurie\, New South Wales\, 2831\, Australia
CATEGORIES:Picnic races
END:VEVENT
BEGIN:VEVENT
DTSTART;VALUE=DATE:20240914
DTEND;VALUE=DATE:20240915
DTSTAMP:20260420T095143
CREATED:20240903T220704Z
LAST-MODIFIED:20240903T220704Z
UID:10000226-1726272000-1726358399@arrnews.store
SUMMARY:Wudinnna & District AH&F Show\, 14 September 2024
DESCRIPTION:
URL:https://arrnews.store/event/wudinnna-district-ahf-show-14-september-2024
LOCATION:Wudinnna Showground\, XF28+X8\, Wudinna\, South Australia\, 5652\, Australia
CATEGORIES:Agricultural shows
END:VEVENT
BEGIN:VEVENT
DTSTART;VALUE=DATE:20240914
DTEND;VALUE=DATE:20240915
DTSTAMP:20260420T095143
CREATED:20240903T132936Z
LAST-MODIFIED:20240904T224834Z
UID:10000257-1726272000-1726358399@arrnews.store
SUMMARY:Moora Show\, 14 September 2024
DESCRIPTION:
URL:https://arrnews.store/event/moora-show-14-september-2024
LOCATION:Moora Showgrounds\, 9284+C7\, Moora\, Western Australia\, 6510\, Australia
CATEGORIES:Agricultural shows
END:VEVENT
BEGIN:VEVENT
DTSTART;VALUE=DATE:20240914
DTEND;VALUE=DATE:20240915
DTSTAMP:20260420T095143
CREATED:20240902T222811Z
LAST-MODIFIED:20240902T222811Z
UID:10000256-1726272000-1726358399@arrnews.store
SUMMARY:Northampton Show\, 14 September 2024
DESCRIPTION:
URL:https://arrnews.store/event/northampton-show-14-september-2024
LOCATION:Purcher International Showground\, JJWX+234\, Northampton\, Western Australia\, 6535\, Australia
CATEGORIES:Agricultural shows
END:VEVENT
BEGIN:VEVENT
DTSTART;VALUE=DATE:20240914
DTEND;VALUE=DATE:20240915
DTSTAMP:20260420T095143
CREATED:20240902T221923Z
LAST-MODIFIED:20240902T221923Z
UID:10000255-1726272000-1726358399@arrnews.store
SUMMARY:Northam Agricultural Show\, 14 September2024
DESCRIPTION:
URL:https://arrnews.store/event/northam-agricultural-show-14-september2024
LOCATION:Northam Showgrounds\, 8MXH+GG\, Northam\, Western Australia\, 6401\, Australia
CATEGORIES:Agricultural shows
END:VEVENT
BEGIN:VEVENT
DTSTART;VALUE=DATE:20240912
DTEND;VALUE=DATE:20240915
DTSTAMP:20260420T095143
CREATED:20240903T213337Z
LAST-MODIFIED:20240903T213337Z
UID:10000205-1726099200-1726358399@arrnews.store
SUMMARY:Silver City Show\, 12-14 September 2024
DESCRIPTION:
URL:https://arrnews.store/event/silver-city-show-12-14-september-2024
LOCATION:Broken Hill Memorial Oval\, Memorial Oval\, Williams Street\, Broken Hill\, 2880\, Australia
CATEGORIES:Agricultural shows
END:VEVENT
BEGIN:VEVENT
DTSTART;VALUE=DATE:20240907
DTEND;VALUE=DATE:20240909
DTSTAMP:20260420T095143
CREATED:20240902T223704Z
LAST-MODIFIED:20240902T223704Z
UID:10000232-1725667200-1725839999@arrnews.store
SUMMARY:Beaudesert Show\, 7-8 September 2024
DESCRIPTION:
URL:https://arrnews.store/event/beaudesert-show-7-8-september-2024
LOCATION:Beaudesert Showground\, 2243+JW\, Beaudesert\, Queensland\, 4285\, Australia
CATEGORIES:Agricultural shows
END:VEVENT
BEGIN:VEVENT
DTSTART;VALUE=DATE:20240904
DTEND;VALUE=DATE:20240906
DTSTAMP:20260420T095143
CREATED:20240902T213854Z
LAST-MODIFIED:20240902T213854Z
UID:10000251-1725408000-1725580799@arrnews.store
SUMMARY:Newdegate Machinery Field Days\, 4-5 September 2024
DESCRIPTION:
URL:https://arrnews.store/event/newdegate-machinery-field-days-4-5-september-2024
LOCATION:Newdegate Recreation Precinct\, W23C+P5\, Newdegate\, Western Australia\, 6355\, Australia
CATEGORIES:Agricultural shows
END:VEVENT
BEGIN:VEVENT
DTSTART;VALUE=DATE:20240831
DTEND;VALUE=DATE:20240901
DTSTAMP:20260420T095143
CREATED:20240821T222258Z
LAST-MODIFIED:20240821T222258Z
UID:10000189-1725062400-1725148799@arrnews.store
SUMMARY:Swan View Show\, 31 August 2024
DESCRIPTION:
URL:https://arrnews.store/event/swan-view-show-31-august-2024
LOCATION:Brown Park\, Brown Park\, Swan View\, 6056\, Australia
CATEGORIES:Agricultural shows
END:VEVENT
BEGIN:VEVENT
DTSTART;VALUE=DATE:20240830
DTEND;VALUE=DATE:20240902
DTSTAMP:20260420T095143
CREATED:20240819T223606Z
LAST-MODIFIED:20240819T223907Z
UID:10000179-1724976000-1725235199@arrnews.store
SUMMARY:Gold Coast Show\, 30 August -1 September 2024
DESCRIPTION:
URL:https://arrnews.store/event/gold-coast-show-30-august-1-september-2024
LOCATION:Broadwater Parklands\, 2CM9+H2G\, Southport\, Queensland\, 4215\, Australia
CATEGORIES:Agricultural shows
END:VEVENT
BEGIN:VEVENT
DTSTART;VALUE=DATE:20240824
DTEND;VALUE=DATE:20240825
DTSTAMP:20260420T095143
CREATED:20240818T104019Z
LAST-MODIFIED:20240818T104019Z
UID:10000194-1724457600-1724543999@arrnews.store
SUMMARY:Mullewa Agricultural Show\, 24 August 2024
DESCRIPTION:
URL:https://arrnews.store/event/mullewa-agricultural-show-24-august-2024
LOCATION:Mullewa Recreation Centre\, FG64+38\, Mullewa\, Western Australia\, 6630\, Australia
CATEGORIES:Agricultural shows
END:VEVENT
BEGIN:VEVENT
DTSTART;VALUE=DATE:20240813
DTEND;VALUE=DATE:20240815
DTSTAMP:20260420T095143
CREATED:20240813T215910Z
LAST-MODIFIED:20240813T220654Z
UID:10000156-1723507200-1723679999@arrnews.store
SUMMARY:Trundle Show\, 13-14 August 2024
DESCRIPTION:
URL:https://arrnews.store/event/trundle-show-13-14-august-2024
LOCATION:Trundle Showground\, 3PF2+P6\, Trundle\, New South Wales\, 2875\, Australia
CATEGORIES:Agricultural shows
END:VEVENT
BEGIN:VEVENT
DTSTART;VALUE=DATE:20240622
DTEND;VALUE=DATE:20240624
DTSTAMP:20260420T095143
CREATED:20240609T104229Z
LAST-MODIFIED:20240609T104229Z
UID:10000149-1719014400-1719187199@arrnews.store
SUMMARY:Mt Larcom Show\, 22-23 June 2024
DESCRIPTION:
URL:https://arrnews.store/event/mt-larcom-show-22-23-june-2024
LOCATION:Mt Larcom Showgrounds\, 5XRP+45\, Mt Larcom\, Queensland\, 4695\, Australia
CATEGORIES:Agricultural shows
END:VEVENT
BEGIN:VEVENT
DTSTART;VALUE=DATE:20240621
DTEND;VALUE=DATE:20240623
DTSTAMP:20260420T095143
CREATED:20240609T084256Z
LAST-MODIFIED:20240609T084256Z
UID:10000147-1718928000-1719100799@arrnews.store
SUMMARY:Show Whitsunday\, 21-22 June 2024
DESCRIPTION:
URL:https://arrnews.store/event/show-whitsunday-21-22-june-2024
LOCATION:Proserpine Showgrounds\, 51 Jupp Street\, Proserpine\, Queensland\, 4800\, Australia
CATEGORIES:Agricultural shows
END:VEVENT
BEGIN:VEVENT
DTSTART;VALUE=DATE:20240224
DTEND;VALUE=DATE:20240226
DTSTAMP:20260420T095143
CREATED:20240206T095506Z
LAST-MODIFIED:20250709T191556Z
UID:10000059-1708761600-1708902000@arrnews.store
SUMMARY:Rylstone-Kandos Show\, 28 February 2026
DESCRIPTION:
URL:https://arrnews.store/event/rylstone-kandos-show-28-february-2026
LOCATION:Rylstone Showground\, 6X39+FQX\, Rylstone\, New South Wales\, 2849\, Australia
CATEGORIES:Agricultural shows
END:VEVENT
END:VCALENDAR