BEGIN:VCALENDAR
VERSION:2.0
PRODID:-//ARR.News Store - ECPv6.15.17//NONSGML v1.0//EN
CALSCALE:GREGORIAN
METHOD:PUBLISH
X-ORIGINAL-URL:https://arrnews.store
X-WR-CALDESC:Events for ARR.News Store
REFRESH-INTERVAL;VALUE=DURATION:PT1H
X-Robots-Tag:noindex
X-PUBLISHED-TTL:PT1H
BEGIN:VTIMEZONE
TZID:Australia/Darwin
BEGIN:STANDARD
TZOFFSETFROM:+0930
TZOFFSETTO:+0930
TZNAME:ACST
DTSTART:20250101T000000
END:STANDARD
END:VTIMEZONE
BEGIN:VEVENT
DTSTART;VALUE=DATE:20260907
DTEND;VALUE=DATE:20260912
DTSTAMP:20260424T012330
CREATED:20260423T065045Z
LAST-MODIFIED:20260423T065045Z
UID:10000943-1788739200-1789171199@arrnews.store
SUMMARY:Australian Rangeland Society Conference\, 7-11 September 2026
DESCRIPTION:Conference theme: Cattle\, Carbon\, Culture\, Conservation and Carbon
URL:https://arrnews.store/event/australian-rangeland-society-conference-7-11-september-2026
LOCATION:DoubleTree by Hilton Hotel\, 116 The Esplanade\, Darwin\, Northern Territory\, 0800\, Australia
CATEGORIES:Conference
ORGANIZER;CN="Australian Rangeland Society":MAILTO:conference@aomevents.com
END:VEVENT
END:VCALENDAR