BEGIN:VCALENDAR
VERSION:2.0
PRODID:-//ARR.News Store - ECPv6.15.17//NONSGML v1.0//EN
CALSCALE:GREGORIAN
METHOD:PUBLISH
X-ORIGINAL-URL:https://arrnews.store
X-WR-CALDESC:Events for ARR.News Store
REFRESH-INTERVAL;VALUE=DURATION:PT1H
X-Robots-Tag:noindex
X-PUBLISHED-TTL:PT1H
BEGIN:VTIMEZONE
TZID:Australia/Melbourne
BEGIN:STANDARD
TZOFFSETFROM:+1100
TZOFFSETTO:+1000
TZNAME:AEST
DTSTART:20250405T160000
END:STANDARD
BEGIN:DAYLIGHT
TZOFFSETFROM:+1000
TZOFFSETTO:+1100
TZNAME:AEDT
DTSTART:20251004T160000
END:DAYLIGHT
BEGIN:STANDARD
TZOFFSETFROM:+1100
TZOFFSETTO:+1000
TZNAME:AEST
DTSTART:20260404T160000
END:STANDARD
BEGIN:DAYLIGHT
TZOFFSETFROM:+1000
TZOFFSETTO:+1100
TZNAME:AEDT
DTSTART:20261003T160000
END:DAYLIGHT
BEGIN:STANDARD
TZOFFSETFROM:+1100
TZOFFSETTO:+1000
TZNAME:AEST
DTSTART:20270403T160000
END:STANDARD
BEGIN:DAYLIGHT
TZOFFSETFROM:+1000
TZOFFSETTO:+1100
TZNAME:AEDT
DTSTART:20271002T160000
END:DAYLIGHT
END:VTIMEZONE
BEGIN:VEVENT
DTSTART;VALUE=DATE:20261121
DTEND;VALUE=DATE:20261122
DTSTAMP:20260423T212402
CREATED:20241111T225737Z
LAST-MODIFIED:20260206T221931Z
UID:10000398-1795219200-1795305599@arrnews.store
SUMMARY:Clunes Show\, 21 November 2026
DESCRIPTION:
URL:https://arrnews.store/event/clunes-show-21-november-2026
LOCATION:Clunes Showgrounds\, PQ2M+9P\, Clunes\, Victoria\, 3370\, Australia
CATEGORIES:Agricultural shows
END:VEVENT
BEGIN:VEVENT
DTSTART;VALUE=DATE:20261121
DTEND;VALUE=DATE:20261122
DTSTAMP:20260423T212402
CREATED:20241111T230515Z
LAST-MODIFIED:20260208T012911Z
UID:10000400-1795219200-1795305599@arrnews.store
SUMMARY:Mansfield Show\, 21 November 2026
DESCRIPTION:
URL:https://arrnews.store/event/mansfield-show-21-november-2026
LOCATION:Mansfield Showgrounds\, W4V2+9W\, Mansfield\, Victoria\, 3722\, Australia
CATEGORIES:Agricultural shows
END:VEVENT
BEGIN:VEVENT
DTSTART;VALUE=DATE:20261121
DTEND;VALUE=DATE:20261122
DTSTAMP:20260423T212402
CREATED:20241118T221614Z
LAST-MODIFIED:20260208T005641Z
UID:10000403-1795219200-1795305599@arrnews.store
SUMMARY:Yarram Agricultural Show\, 21 November 2026
DESCRIPTION:
URL:https://arrnews.store/event/yarram-agricultural-show-21-november-2026
LOCATION:Yarram Recreation Reserve\, CMVC+4M\, Yarram\, Victoria\, 3971\, Australia
CATEGORIES:Agricultural shows
END:VEVENT
BEGIN:VEVENT
DTSTART;VALUE=DATE:20261121
DTEND;VALUE=DATE:20261123
DTSTAMP:20260423T212402
CREATED:20241111T233303Z
LAST-MODIFIED:20260208T010557Z
UID:10000399-1795219200-1795391999@arrnews.store
SUMMARY:Lilydale & Yarra Valley Show\, 21-22 November 2026
DESCRIPTION:
URL:https://arrnews.store/event/lilydale-yarra-valley-show-21-22-november-2026
LOCATION:Lilydale Showgrounds\, 68VX+QJ2\, Lilydale\, Victoria\, 3140\, Australia
CATEGORIES:Agricultural shows
END:VEVENT
BEGIN:VEVENT
DTSTART;VALUE=DATE:20261128
DTEND;VALUE=DATE:20261130
DTSTAMP:20260423T212402
CREATED:20250717T161611Z
LAST-MODIFIED:20260208T004315Z
UID:10000405-1795824000-1795996799@arrnews.store
SUMMARY:All Breeds Annual Show\, 28-29 November 2026
DESCRIPTION:
URL:https://arrnews.store/event/all-breeds-annual-show-28-29-november-2026
LOCATION:Elmore Events Centre\, GJ4P+VMC\, Burnewang\, Victoria\, 3558\, Australia
CATEGORIES:Agricultural shows
END:VEVENT
BEGIN:VEVENT
DTSTART;VALUE=DATE:20261128
DTEND;VALUE=DATE:20261129
DTSTAMP:20260423T212402
CREATED:20241118T222232Z
LAST-MODIFIED:20260208T005400Z
UID:10000404-1795824000-1795910399@arrnews.store
SUMMARY:Daylesford Show\, 28 November 2026
DESCRIPTION:
URL:https://arrnews.store/event/daylesford-show-28-november-2026
LOCATION:Victoria Park\, J4VP+79\, Daylesford\, Victoria\, 3460\, Australia
CATEGORIES:Agricultural shows
END:VEVENT
BEGIN:VEVENT
DTSTART;VALUE=DATE:20261206
DTEND;VALUE=DATE:20261208
DTSTAMP:20260423T212402
CREATED:20241125T223048Z
LAST-MODIFIED:20250717T161642Z
UID:10000406-1796515200-1796687999@arrnews.store
SUMMARY:Kingston Agricultural Show\, 6-7 December 2026
DESCRIPTION:
URL:https://arrnews.store/event/kingston-agricultural-show-6-7-december-2026
LOCATION:Kingston Showgrounds\, JXF5+Q8J\, Kingston\, Victoria\, 3364\, Australia
CATEGORIES:Agricultural shows
END:VEVENT
END:VCALENDAR