BEGIN:VCALENDAR
VERSION:2.0
PRODID:-//ARR.News Store - ECPv6.15.17//NONSGML v1.0//EN
CALSCALE:GREGORIAN
METHOD:PUBLISH
X-ORIGINAL-URL:https://arrnews.store
X-WR-CALDESC:Events for ARR.News Store
REFRESH-INTERVAL;VALUE=DURATION:PT1H
X-Robots-Tag:noindex
X-PUBLISHED-TTL:PT1H
BEGIN:VTIMEZONE
TZID:Australia/Sydney
BEGIN:STANDARD
TZOFFSETFROM:+1100
TZOFFSETTO:+1000
TZNAME:AEST
DTSTART:20250405T160000
END:STANDARD
BEGIN:DAYLIGHT
TZOFFSETFROM:+1000
TZOFFSETTO:+1100
TZNAME:AEDT
DTSTART:20251004T160000
END:DAYLIGHT
BEGIN:STANDARD
TZOFFSETFROM:+1100
TZOFFSETTO:+1000
TZNAME:AEST
DTSTART:20260404T160000
END:STANDARD
BEGIN:DAYLIGHT
TZOFFSETFROM:+1000
TZOFFSETTO:+1100
TZNAME:AEDT
DTSTART:20261003T160000
END:DAYLIGHT
BEGIN:STANDARD
TZOFFSETFROM:+1100
TZOFFSETTO:+1000
TZNAME:AEST
DTSTART:20270403T160000
END:STANDARD
BEGIN:DAYLIGHT
TZOFFSETFROM:+1000
TZOFFSETTO:+1100
TZNAME:AEDT
DTSTART:20271002T160000
END:DAYLIGHT
END:VTIMEZONE
BEGIN:VTIMEZONE
TZID:Australia/Brisbane
BEGIN:STANDARD
TZOFFSETFROM:+1000
TZOFFSETTO:+1000
TZNAME:AEST
DTSTART:20250101T000000
END:STANDARD
END:VTIMEZONE
BEGIN:VTIMEZONE
TZID:Australia/Perth
BEGIN:STANDARD
TZOFFSETFROM:+0800
TZOFFSETTO:+0800
TZNAME:AWST
DTSTART:20250101T000000
END:STANDARD
END:VTIMEZONE
BEGIN:VTIMEZONE
TZID:Australia/Adelaide
BEGIN:STANDARD
TZOFFSETFROM:+1030
TZOFFSETTO:+0930
TZNAME:ACST
DTSTART:20250405T163000
END:STANDARD
BEGIN:DAYLIGHT
TZOFFSETFROM:+0930
TZOFFSETTO:+1030
TZNAME:ACDT
DTSTART:20251004T163000
END:DAYLIGHT
BEGIN:STANDARD
TZOFFSETFROM:+1030
TZOFFSETTO:+0930
TZNAME:ACST
DTSTART:20260404T163000
END:STANDARD
BEGIN:DAYLIGHT
TZOFFSETFROM:+0930
TZOFFSETTO:+1030
TZNAME:ACDT
DTSTART:20261003T163000
END:DAYLIGHT
BEGIN:STANDARD
TZOFFSETFROM:+1030
TZOFFSETTO:+0930
TZNAME:ACST
DTSTART:20270403T163000
END:STANDARD
BEGIN:DAYLIGHT
TZOFFSETFROM:+0930
TZOFFSETTO:+1030
TZNAME:ACDT
DTSTART:20271002T163000
END:DAYLIGHT
END:VTIMEZONE
BEGIN:VTIMEZONE
TZID:Australia/Hobart
BEGIN:STANDARD
TZOFFSETFROM:+1100
TZOFFSETTO:+1000
TZNAME:AEST
DTSTART:20250405T160000
END:STANDARD
BEGIN:DAYLIGHT
TZOFFSETFROM:+1000
TZOFFSETTO:+1100
TZNAME:AEDT
DTSTART:20251004T160000
END:DAYLIGHT
BEGIN:STANDARD
TZOFFSETFROM:+1100
TZOFFSETTO:+1000
TZNAME:AEST
DTSTART:20260404T160000
END:STANDARD
BEGIN:DAYLIGHT
TZOFFSETFROM:+1000
TZOFFSETTO:+1100
TZNAME:AEDT
DTSTART:20261003T160000
END:DAYLIGHT
BEGIN:STANDARD
TZOFFSETFROM:+1100
TZOFFSETTO:+1000
TZNAME:AEST
DTSTART:20270403T160000
END:STANDARD
BEGIN:DAYLIGHT
TZOFFSETFROM:+1000
TZOFFSETTO:+1100
TZNAME:AEDT
DTSTART:20271002T160000
END:DAYLIGHT
END:VTIMEZONE
BEGIN:VTIMEZONE
TZID:Australia/Melbourne
BEGIN:STANDARD
TZOFFSETFROM:+1100
TZOFFSETTO:+1000
TZNAME:AEST
DTSTART:20250405T160000
END:STANDARD
BEGIN:DAYLIGHT
TZOFFSETFROM:+1000
TZOFFSETTO:+1100
TZNAME:AEDT
DTSTART:20251004T160000
END:DAYLIGHT
BEGIN:STANDARD
TZOFFSETFROM:+1100
TZOFFSETTO:+1000
TZNAME:AEST
DTSTART:20260404T160000
END:STANDARD
BEGIN:DAYLIGHT
TZOFFSETFROM:+1000
TZOFFSETTO:+1100
TZNAME:AEDT
DTSTART:20261003T160000
END:DAYLIGHT
BEGIN:STANDARD
TZOFFSETFROM:+1100
TZOFFSETTO:+1000
TZNAME:AEST
DTSTART:20270403T160000
END:STANDARD
BEGIN:DAYLIGHT
TZOFFSETFROM:+1000
TZOFFSETTO:+1100
TZNAME:AEDT
DTSTART:20271002T160000
END:DAYLIGHT
END:VTIMEZONE
BEGIN:VEVENT
DTSTART;VALUE=DATE:20260606
DTEND;VALUE=DATE:20260607
DTSTAMP:20260422T104418
CREATED:20250518T045025Z
LAST-MODIFIED:20250715T175322Z
UID:10000496-1780704000-1780790399@arrnews.store
SUMMARY:Warren Show\, 6 June 2026
DESCRIPTION:
URL:https://arrnews.store/event/warren-show-6-june-2026
LOCATION:Warren Showground and Racecourse\, 8R87+RH\, Warren\, New South Wales\, 2824\, Australia
CATEGORIES:Agricultural shows
END:VEVENT
BEGIN:VEVENT
DTSTART;VALUE=DATE:20260606
DTEND;VALUE=DATE:20260607
DTSTAMP:20260422T104419
CREATED:20250715T175225Z
LAST-MODIFIED:20250715T175225Z
UID:10000467-1780704000-1780790399@arrnews.store
SUMMARY:Wyong Agricultural Show\, 6 June 2026
DESCRIPTION:
URL:https://arrnews.store/event/wyong-agricultural-show-6-june-2026
LOCATION:Morisset Showground\, VFVH+69F\, Morisset\, New South Wales\, 2264\, Australia
CATEGORIES:Agricultural shows
END:VEVENT
BEGIN:VEVENT
DTSTART;VALUE=DATE:20260610
DTEND;VALUE=DATE:20260613
DTSTAMP:20260422T104419
CREATED:20240602T091546Z
LAST-MODIFIED:20250724T150406Z
UID:10000137-1781049600-1781308799@arrnews.store
SUMMARY:Rockhampton Show\, 10-12 June 2026
DESCRIPTION:
URL:https://arrnews.store/event/rockhampton-show-10-12-june-2026
LOCATION:Rockhampton Showgrounds\, JFMX+3QH\, Wandal\, Queensland\, 4700\, Australia
CATEGORIES:Agricultural shows
END:VEVENT
BEGIN:VEVENT
DTSTART;VALUE=DATE:20260612
DTEND;VALUE=DATE:20260615
DTSTAMP:20260422T104419
CREATED:20240602T121341Z
LAST-MODIFIED:20250724T150508Z
UID:10000139-1781222400-1781481599@arrnews.store
SUMMARY:Cloncurry Show\, 12-14 June 2026
DESCRIPTION:
URL:https://arrnews.store/event/cloncurry-show-12-14-june-2026
LOCATION:Cloncurry Recreation Grounds\, 5RF27GW5+MM\, Cloncurry\, Queensland\, 4824\, Australia
CATEGORIES:Agricultural shows
END:VEVENT
BEGIN:VEVENT
DTSTART;VALUE=DATE:20260612
DTEND;VALUE=DATE:20260615
DTSTAMP:20260422T104419
CREATED:20240602T123925Z
LAST-MODIFIED:20250724T150605Z
UID:10000140-1781222400-1781481599@arrnews.store
SUMMARY:Sunshine Coast Agricultural Show\, 12-14 June 2026
DESCRIPTION:
URL:https://arrnews.store/event/sunshine-coast-agricultural-show-12-14-june-2026
LOCATION:Nambour Showgrounds\, 9XJ9+8HX\, Nambour\, Queensland\, 4560\, Australia
CATEGORIES:Agricultural shows
END:VEVENT
BEGIN:VEVENT
DTSTART;VALUE=DATE:20260613
DTEND;VALUE=DATE:20260614
DTSTAMP:20260422T104419
CREATED:20240602T132701Z
LAST-MODIFIED:20250724T150640Z
UID:10000142-1781308800-1781395199@arrnews.store
SUMMARY:Teebar Show\, 13 June 2026
DESCRIPTION:
URL:https://arrnews.store/event/teebar-show-13-june-2026
LOCATION:Teebar Sports & Recreation Grounds\, 96JM+2C\, Teebar\, Queensland\, 4620\, Australia
CATEGORIES:Agricultural shows
END:VEVENT
BEGIN:VEVENT
DTSTART;VALUE=DATE:20260614
DTEND;VALUE=DATE:20260615
DTSTAMP:20260422T104419
CREATED:20240602T133740Z
LAST-MODIFIED:20250724T150723Z
UID:10000143-1781395200-1781481599@arrnews.store
SUMMARY:Pioneer Valley Show\, 14 June 2026
DESCRIPTION:
URL:https://arrnews.store/event/pioneer-valley-show-14-june-2026
LOCATION:Finch Hatton Showground\, VJ6J+5J\, Finch Hatton\, Queensland\, 4756\, Australia
CATEGORIES:Agricultural shows
END:VEVENT
BEGIN:VEVENT
DTSTART;VALUE=DATE:20260616
DTEND;VALUE=DATE:20260619
DTSTAMP:20260422T104419
CREATED:20240609T080055Z
LAST-MODIFIED:20250724T150809Z
UID:10000144-1781568000-1781827199@arrnews.store
SUMMARY:Mackay Show\, 16-18 June 2026
DESCRIPTION:
URL:https://arrnews.store/event/mackay-show-16-18-june-2026
LOCATION:Mackay Showgrounds\, V53G+WHP\, Makay\, Queensland\, 4740\, Australia
CATEGORIES:Agricultural shows
END:VEVENT
BEGIN:VEVENT
DTSTART;VALUE=DATE:20260620
DTEND;VALUE=DATE:20260622
DTSTAMP:20260422T104419
CREATED:20260203T081318Z
LAST-MODIFIED:20260203T081318Z
UID:10000920-1781913600-1782086399@arrnews.store
SUMMARY:Mt Larcom Show\, 20-21 June 2026
DESCRIPTION:
URL:https://arrnews.store/event/mt-larcom-show-20-21-june-2026
LOCATION:Mt Larcom Showgrounds\, 5XRP+45\, Mt Larcom\, Queensland\, 4695\, Australia
CATEGORIES:Agricultural shows
END:VEVENT
BEGIN:VEVENT
DTSTART;VALUE=DATE:20260629
DTEND;VALUE=DATE:20260701
DTSTAMP:20260422T104419
CREATED:20260207T233236Z
LAST-MODIFIED:20260207T233236Z
UID:10000934-1782691200-1782863999@arrnews.store
SUMMARY:Atherton Show\, 29-30 June 2026
DESCRIPTION:
URL:https://arrnews.store/event/atherton-show-29-30-june-2026
LOCATION:Atherton Showgrounds\, PFJM+J43\, Atherton\, Queensland\, 4883\, Australia
CATEGORIES:Agricultural shows
END:VEVENT
BEGIN:VEVENT
DTSTART;VALUE=DATE:20260822
DTEND;VALUE=DATE:20260823
DTSTAMP:20260422T104419
CREATED:20240814T232106Z
LAST-MODIFIED:20250725T202933Z
UID:10000184-1787356800-1787443199@arrnews.store
SUMMARY:Dalwallinu Agricultural Show\, 22 August 2026
DESCRIPTION:
URL:https://arrnews.store/event/dalwallinu-agricultural-show-22-august-2026
LOCATION:Dalwallinu Showgrounds\, PMG4+GQX\, Dalwallinu\, Western Australia\, 6609\, Australia
CATEGORIES:Agricultural shows
END:VEVENT
BEGIN:VEVENT
DTSTART;VALUE=DATE:20260829
DTEND;VALUE=DATE:20260830
DTSTAMP:20260422T104419
CREATED:20240825T071107Z
LAST-MODIFIED:20250725T203019Z
UID:10000195-1787961600-1788047999@arrnews.store
SUMMARY:Yilgarn Agricultural Society\, 29 August 2026
DESCRIPTION:
URL:https://arrnews.store/event/yilgarn-agricultural-society-29-august-2026
LOCATION:Southern Cross Oval\, Q8CH+7C\, Southern Cross\, Western Australia\, 6426\, Australia
CATEGORIES:Agricultural shows
END:VEVENT
BEGIN:VEVENT
DTSTART;VALUE=DATE:20260904
DTEND;VALUE=DATE:20260906
DTSTAMP:20260422T104419
CREATED:20250111T000159Z
LAST-MODIFIED:20250715T175356Z
UID:10000577-1788480000-1788652799@arrnews.store
SUMMARY:Tamworth Show\, 4-5 September 2026
DESCRIPTION:
URL:https://arrnews.store/event/tamworth-show-4-5-september-2026
LOCATION:Australian Equine and Livestock Events Centre\, VW8C+3G\, Tamworth\, New South Wales\, 2340\, Australia
CATEGORIES:Agricultural shows
END:VEVENT
BEGIN:VEVENT
DTSTART;VALUE=DATE:20260904
DTEND;VALUE=DATE:20260906
DTSTAMP:20260422T104419
CREATED:20260207T231750Z
LAST-MODIFIED:20260207T231750Z
UID:10000932-1788480000-1788652799@arrnews.store
SUMMARY:Grenfell Show\, 4-5 September 2026
DESCRIPTION:
URL:https://arrnews.store/event/grenfell-show-4-5-september-2026
LOCATION:Grenfell Showgrounds\, 4565+JMV\, Grenfell\, New South Wales\, 2810\, Australia
CATEGORIES:Agricultural shows
END:VEVENT
BEGIN:VEVENT
DTSTART;VALUE=DATE:20260906
DTEND;VALUE=DATE:20260907
DTSTAMP:20260422T104419
CREATED:20260203T225332Z
LAST-MODIFIED:20260203T225905Z
UID:10000921-1788652800-1788739199@arrnews.store
SUMMARY:Finley Show\, 6 September 2026
DESCRIPTION:
URL:https://arrnews.store/event/finley-show-6-september-2026
LOCATION:Finley Showground & Sporting Complex\, 8HW9+W7\, Finley\, New South Wales\, 2713\, Australia
CATEGORIES:Agricultural shows
END:VEVENT
BEGIN:VEVENT
DTSTART;VALUE=DATE:20260906
DTEND;VALUE=DATE:20260907
DTSTAMP:20260422T104419
CREATED:20260206T032323Z
LAST-MODIFIED:20260206T032323Z
UID:10000931-1788652800-1788739199@arrnews.store
SUMMARY:Woodstock Memorial Show\, 6 September 2026
DESCRIPTION:
URL:https://arrnews.store/event/woodstock-memorial-show-6-september-2026
LOCATION:Woodstock Showground\, 7R2R+RC\, Woodstock\, New South Wales\, 2793\, Australia
CATEGORIES:Agricultural shows
END:VEVENT
BEGIN:VEVENT
DTSTART;VALUE=DATE:20260913
DTEND;VALUE=DATE:20260914
DTSTAMP:20260422T104419
CREATED:20240902T230547Z
LAST-MODIFIED:20260205T011542Z
UID:10000204-1789257600-1789343999@arrnews.store
SUMMARY:Cudal Show\, 13 September 2026
DESCRIPTION:
URL:https://arrnews.store/event/cudal-show-13-september-2026
LOCATION:Cudal Showground\, PQ53+C24\, Cudal\, New South Wales\, 2864\, Australia
CATEGORIES:Agricultural shows
END:VEVENT
BEGIN:VEVENT
DTSTART;VALUE=DATE:20260918
DTEND;VALUE=DATE:20260921
DTSTAMP:20260422T104419
CREATED:20260210T040911Z
LAST-MODIFIED:20260210T040911Z
UID:10000938-1789689600-1789948799@arrnews.store
SUMMARY:Merriwa Springtime Show\, 18-20 September 2026
DESCRIPTION:
URL:https://arrnews.store/event/merriwa-springtime-show-18-20-september-2026
LOCATION:Merriwa Showground\, V85X+WV\, Merriwa\, New South Wales\, 2329\, Australia
CATEGORIES:Agricultural shows
END:VEVENT
BEGIN:VEVENT
DTSTART;VALUE=DATE:20260919
DTEND;VALUE=DATE:20260920
DTSTAMP:20260422T104419
CREATED:20240909T233030Z
LAST-MODIFIED:20260316T051135Z
UID:10000211-1789776000-1789862399@arrnews.store
SUMMARY:Ardlethan Show\, 19 September 2026
DESCRIPTION:
URL:https://arrnews.store/event/ardlethan-show-19-september-2026
LOCATION:Ardlethan Showground\, JWX5+6RM\, Ardlethan\, New South Wales\, 2665\, Australia
CATEGORIES:Agricultural shows
END:VEVENT
BEGIN:VEVENT
DTSTART;VALUE=DATE:20260920
DTEND;VALUE=DATE:20260921
DTSTAMP:20260422T104419
CREATED:20260305T012940Z
LAST-MODIFIED:20260305T013548Z
UID:10000940-1789862400-1789948799@arrnews.store
SUMMARY:Young Show\, 20 September 2026
DESCRIPTION:
URL:https://arrnews.store/event/young-show-20-september-2026
LOCATION:Young Showgrounds\, M8P8+56W\, Young\, New South Wales\, 2594\, Australia
CATEGORIES:Agricultural shows
END:VEVENT
BEGIN:VEVENT
DTSTART;VALUE=DATE:20260926
DTEND;VALUE=DATE:20260927
DTSTAMP:20260422T104419
CREATED:20260210T035531Z
LAST-MODIFIED:20260210T035945Z
UID:10000937-1790380800-1790467199@arrnews.store
SUMMARY:Balaklava and Dalkey Show\, 26 September 2026
DESCRIPTION:
URL:https://arrnews.store/event/balaklava-and-dalkey-show-26-september-2026
LOCATION:Ralli Park\, VC46+QW2\, Balaklava\, South Australia\, 5461\, Australia
CATEGORIES:Agricultural shows
END:VEVENT
BEGIN:VEVENT
DTSTART;VALUE=DATE:20261002
DTEND;VALUE=DATE:20261004
DTSTAMP:20260422T104419
CREATED:20240929T090919Z
LAST-MODIFIED:20250725T202120Z
UID:10000354-1790899200-1791071999@arrnews.store
SUMMARY:Burnie Show & Agri Expo\, 2-3 October 2026
DESCRIPTION:
URL:https://arrnews.store/event/burnie-show-agri-expo-2-3-october-2026
LOCATION:Agriplex\, VVWQ+8P\, Romaine\, Tasmania\, Australia
CATEGORIES:Agricultural shows
END:VEVENT
BEGIN:VEVENT
DTSTART;TZID=Australia/Melbourne:20261003T170000
DTEND;TZID=Australia/Melbourne:20261003T235900
DTSTAMP:20260422T104419
CREATED:20260204T014800Z
LAST-MODIFIED:20260204T014800Z
UID:10000923-1791046800-1791071940@arrnews.store
SUMMARY:Corryong Show\, 3 October 2026
DESCRIPTION:
URL:https://arrnews.store/event/corryong-show-3-october-2026
LOCATION:Corryong Recreation Reserve\, RV5X+6J\, Corryong\, Victoria\, 3707\, Australia
CATEGORIES:Agricultural shows
END:VEVENT
BEGIN:VEVENT
DTSTART;VALUE=DATE:20261004
DTEND;VALUE=DATE:20261005
DTSTAMP:20260422T104419
CREATED:20260305T013914Z
LAST-MODIFIED:20260305T013914Z
UID:10000941-1791072000-1791158399@arrnews.store
SUMMARY:Young Horse Show\, 4 October 2026
DESCRIPTION:
URL:https://arrnews.store/event/young-horse-show-4-october-2026
LOCATION:Young Showgrounds\, M8P8+56W\, Young\, New South Wales\, 2594\, Australia
CATEGORIES:Agricultural shows
END:VEVENT
BEGIN:VEVENT
DTSTART;VALUE=DATE:20261004
DTEND;VALUE=DATE:20261005
DTSTAMP:20260422T104419
CREATED:20260317T040650Z
LAST-MODIFIED:20260317T040650Z
UID:10000942-1791072000-1791158399@arrnews.store
SUMMARY:Berrigan Show\, 4 October 2026
DESCRIPTION:
URL:https://arrnews.store/event/berrigan-show-4-october-2026
LOCATION:Berrigan Sportsground\, 9R23+FR\, Berrigan\, New South Wales\, 2712\, Australia
CATEGORIES:Agricultural shows
END:VEVENT
BEGIN:VEVENT
DTSTART;VALUE=DATE:20261008
DTEND;VALUE=DATE:20261011
DTSTAMP:20260422T104419
CREATED:20250725T202219Z
LAST-MODIFIED:20250725T202219Z
UID:10000355-1791417600-1791676799@arrnews.store
SUMMARY:Royal Launceston Show\, 8-10 October 2026
DESCRIPTION:
URL:https://arrnews.store/event/royal-launceston-show-8-10-october-2026
LOCATION:Riverbend Park\, H49J+32\, Invermay\, Tasmania\, 7248\, Australia
CATEGORIES:Agricultural shows
END:VEVENT
BEGIN:VEVENT
DTSTART;VALUE=DATE:20261009
DTEND;VALUE=DATE:20261011
DTSTAMP:20260422T104419
CREATED:20260205T005823Z
LAST-MODIFIED:20260205T005823Z
UID:10000926-1791504000-1791676799@arrnews.store
SUMMARY:Leeton Show\, 9-10 October 2026
DESCRIPTION:
URL:https://arrnews.store/event/leeton-show-9-10-october-2026
LOCATION:Leeton Showground\, CCR3+37\, Leeton\, New South Wales\, Australia
CATEGORIES:Agricultural shows
END:VEVENT
BEGIN:VEVENT
DTSTART;VALUE=DATE:20261010
DTEND;VALUE=DATE:20261011
DTSTAMP:20260422T104419
CREATED:20240929T081817Z
LAST-MODIFIED:20250725T203137Z
UID:10000359-1791590400-1791676799@arrnews.store
SUMMARY:Dardanup Bull & Barrel Festival\, 10 October 2026
DESCRIPTION:
URL:https://arrnews.store/event/dardanup-bull-barrel-festival-10-october-2026
LOCATION:Wells Oval\, JQ25+XH\, Dardanup West\, Western Australia\, 6236\, Australia
CATEGORIES:Agricultural shows
END:VEVENT
BEGIN:VEVENT
DTSTART;VALUE=DATE:20261010
DTEND;VALUE=DATE:20261011
DTSTAMP:20260422T104419
CREATED:20240929T082446Z
LAST-MODIFIED:20250725T203210Z
UID:10000360-1791590400-1791676799@arrnews.store
SUMMARY:Waroona Show\, 10 October 2026
DESCRIPTION:
URL:https://arrnews.store/event/waroona-show-10-october-2026
LOCATION:Waroona Agricultural Showgrounds\, 5W3F+59\, Waroona\, Western Australia\, 6215\, Australia
CATEGORIES:Agricultural shows
END:VEVENT
BEGIN:VEVENT
DTSTART;VALUE=DATE:20261010
DTEND;VALUE=DATE:20261012
DTSTAMP:20260422T104419
CREATED:20241007T234227Z
LAST-MODIFIED:20250715T175439Z
UID:10000248-1791590400-1791763199@arrnews.store
SUMMARY:Taree Show\, 10-11 October 2026
DESCRIPTION:
URL:https://arrnews.store/event/taree-show-10-11-october-2026
LOCATION:Taree Showground\, 3FX6+4H\, Taree\, New South Wales\, 2430
CATEGORIES:Agricultural shows
END:VEVENT
END:VCALENDAR