BEGIN:VCALENDAR
VERSION:2.0
PRODID:-//ARR.News Store - ECPv6.15.17//NONSGML v1.0//EN
CALSCALE:GREGORIAN
METHOD:PUBLISH
X-ORIGINAL-URL:https://arrnews.store
X-WR-CALDESC:Events for ARR.News Store
REFRESH-INTERVAL;VALUE=DURATION:PT1H
X-Robots-Tag:noindex
X-PUBLISHED-TTL:PT1H
BEGIN:VTIMEZONE
TZID:Australia/Sydney
BEGIN:STANDARD
TZOFFSETFROM:+1100
TZOFFSETTO:+1000
TZNAME:AEST
DTSTART:20250405T160000
END:STANDARD
BEGIN:DAYLIGHT
TZOFFSETFROM:+1000
TZOFFSETTO:+1100
TZNAME:AEDT
DTSTART:20251004T160000
END:DAYLIGHT
BEGIN:STANDARD
TZOFFSETFROM:+1100
TZOFFSETTO:+1000
TZNAME:AEST
DTSTART:20260404T160000
END:STANDARD
BEGIN:DAYLIGHT
TZOFFSETFROM:+1000
TZOFFSETTO:+1100
TZNAME:AEDT
DTSTART:20261003T160000
END:DAYLIGHT
BEGIN:STANDARD
TZOFFSETFROM:+1100
TZOFFSETTO:+1000
TZNAME:AEST
DTSTART:20270403T160000
END:STANDARD
BEGIN:DAYLIGHT
TZOFFSETFROM:+1000
TZOFFSETTO:+1100
TZNAME:AEDT
DTSTART:20271002T160000
END:DAYLIGHT
END:VTIMEZONE
BEGIN:VTIMEZONE
TZID:Australia/Brisbane
BEGIN:STANDARD
TZOFFSETFROM:+1000
TZOFFSETTO:+1000
TZNAME:AEST
DTSTART:20250101T000000
END:STANDARD
END:VTIMEZONE
BEGIN:VTIMEZONE
TZID:Australia/Melbourne
BEGIN:STANDARD
TZOFFSETFROM:+1100
TZOFFSETTO:+1000
TZNAME:AEST
DTSTART:20250405T160000
END:STANDARD
BEGIN:DAYLIGHT
TZOFFSETFROM:+1000
TZOFFSETTO:+1100
TZNAME:AEDT
DTSTART:20251004T160000
END:DAYLIGHT
BEGIN:STANDARD
TZOFFSETFROM:+1100
TZOFFSETTO:+1000
TZNAME:AEST
DTSTART:20260404T160000
END:STANDARD
BEGIN:DAYLIGHT
TZOFFSETFROM:+1000
TZOFFSETTO:+1100
TZNAME:AEDT
DTSTART:20261003T160000
END:DAYLIGHT
BEGIN:STANDARD
TZOFFSETFROM:+1100
TZOFFSETTO:+1000
TZNAME:AEST
DTSTART:20270403T160000
END:STANDARD
BEGIN:DAYLIGHT
TZOFFSETFROM:+1000
TZOFFSETTO:+1100
TZNAME:AEDT
DTSTART:20271002T160000
END:DAYLIGHT
END:VTIMEZONE
BEGIN:VTIMEZONE
TZID:Australia/Hobart
BEGIN:STANDARD
TZOFFSETFROM:+1100
TZOFFSETTO:+1000
TZNAME:AEST
DTSTART:20250405T160000
END:STANDARD
BEGIN:DAYLIGHT
TZOFFSETFROM:+1000
TZOFFSETTO:+1100
TZNAME:AEDT
DTSTART:20251004T160000
END:DAYLIGHT
BEGIN:STANDARD
TZOFFSETFROM:+1100
TZOFFSETTO:+1000
TZNAME:AEST
DTSTART:20260404T160000
END:STANDARD
BEGIN:DAYLIGHT
TZOFFSETFROM:+1000
TZOFFSETTO:+1100
TZNAME:AEDT
DTSTART:20261003T160000
END:DAYLIGHT
BEGIN:STANDARD
TZOFFSETFROM:+1100
TZOFFSETTO:+1000
TZNAME:AEST
DTSTART:20270403T160000
END:STANDARD
BEGIN:DAYLIGHT
TZOFFSETFROM:+1000
TZOFFSETTO:+1100
TZNAME:AEDT
DTSTART:20271002T160000
END:DAYLIGHT
END:VTIMEZONE
BEGIN:VEVENT
DTSTART;VALUE=DATE:20260509
DTEND;VALUE=DATE:20260511
DTSTAMP:20260422T110558
CREATED:20250413T094705Z
LAST-MODIFIED:20250713T122308Z
UID:10000466-1778284800-1778457599@arrnews.store
SUMMARY:Orange Show\, 9-10 May 2026
DESCRIPTION:
URL:https://arrnews.store/event/orange-show-9-10-may-2026
LOCATION:Orange Showground\, P4H6+M8R\, Orange\, New South Wales\, 2800\, Australia
CATEGORIES:Agricultural shows
END:VEVENT
BEGIN:VEVENT
DTSTART;VALUE=DATE:20260511
DTEND;VALUE=DATE:20260513
DTSTAMP:20260422T110558
CREATED:20250413T083436Z
LAST-MODIFIED:20250722T123407Z
UID:10000513-1778457600-1778630399@arrnews.store
SUMMARY:Mitchell Show\, 11-12 May 2026
DESCRIPTION:
URL:https://arrnews.store/event/mitchell-show-11-12-may-2026
LOCATION:Mitchell Showgrounds\, GX3J+3CX\, Mitchell\, Queensland\, 4465\, Australia
CATEGORIES:Agricultural shows
END:VEVENT
BEGIN:VEVENT
DTSTART;VALUE=DATE:20260511
DTEND;VALUE=DATE:20260513
DTSTAMP:20260422T110558
CREATED:20250413T084321Z
LAST-MODIFIED:20250722T123319Z
UID:10000514-1778457600-1778630399@arrnews.store
SUMMARY:Theodore Show\, 11-12 May 2026
DESCRIPTION:
URL:https://arrnews.store/event/theodore-show-11-12-may-2026
LOCATION:Theodore Showgrounds\, 337G+86R\, Theodore\, Queensland\, 4719\, Australia
CATEGORIES:Agricultural shows
END:VEVENT
BEGIN:VEVENT
DTSTART;VALUE=DATE:20260512
DTEND;VALUE=DATE:20260513
DTSTAMP:20260422T110558
CREATED:20250413T095542Z
LAST-MODIFIED:20250713T122432Z
UID:10000468-1778544000-1778630399@arrnews.store
SUMMARY:Yeoval Show\, 12 May 2026
DESCRIPTION:
URL:https://arrnews.store/event/yeoval-show-12-may-2026
LOCATION:Yeoval Showground\, 7J4V+VX\, Yeoval\, New South Wales\, 2868\, Australia
CATEGORIES:Agricultural shows
END:VEVENT
BEGIN:VEVENT
DTSTART;VALUE=DATE:20260514
DTEND;VALUE=DATE:20260517
DTSTAMP:20260422T110558
CREATED:20250413T090036Z
LAST-MODIFIED:20250722T123441Z
UID:10000517-1778716800-1778975999@arrnews.store
SUMMARY:Gympie Show\, 14-16 May 2026
DESCRIPTION:
URL:https://arrnews.store/event/gympie-show-14-16-may-2026
LOCATION:Gympie Showgrounds\, QJWW+VFJ\, Southside\, Queensland\, 4570\, Australia
CATEGORIES:Agricultural shows
END:VEVENT
BEGIN:VEVENT
DTSTART;VALUE=DATE:20260514
DTEND;VALUE=DATE:20260517
DTSTAMP:20260422T110558
CREATED:20250413T091013Z
LAST-MODIFIED:20250722T123554Z
UID:10000516-1778716800-1778975999@arrnews.store
SUMMARY:Charleville Show\, 14-16 May 2026
DESCRIPTION:
URL:https://arrnews.store/event/charleville-show-14-16-may-2026
LOCATION:Charleville Showgrounds\, H7X4+433\, Charleville\, Queensland\, 4470\, Australia
CATEGORIES:Agricultural shows
END:VEVENT
BEGIN:VEVENT
DTSTART;VALUE=DATE:20260515
DTEND;VALUE=DATE:20260517
DTSTAMP:20260422T110558
CREATED:20241230T221123Z
LAST-MODIFIED:20250713T122543Z
UID:10000485-1778803200-1778975999@arrnews.store
SUMMARY:Cobar Show\, 15-16 May 2026
DESCRIPTION:
URL:https://arrnews.store/event/cobar-show-15-16-may-2026
LOCATION:Ward Oval\, 4RW7FRWM+8M\, Cobar\, New South Wales\, 2835\, Australia
CATEGORIES:Agricultural shows
END:VEVENT
BEGIN:VEVENT
DTSTART;VALUE=DATE:20260515
DTEND;VALUE=DATE:20260517
DTSTAMP:20260422T110558
CREATED:20250413T092150Z
LAST-MODIFIED:20250722T123633Z
UID:10000519-1778803200-1778975999@arrnews.store
SUMMARY:Callide Valley Show\, 15-16 May 2026
DESCRIPTION:
URL:https://arrnews.store/event/callide-valley-show-15-16-may-2026
LOCATION:Biloela Showground\, JG84+63\, Biloela\, Queensland\, 4715\, Australia
CATEGORIES:Agricultural shows
END:VEVENT
BEGIN:VEVENT
DTSTART;VALUE=DATE:20260515
DTEND;VALUE=DATE:20260517
DTSTAMP:20260422T110558
CREATED:20250422T120952Z
LAST-MODIFIED:20250715T174802Z
UID:10000488-1778803200-1778975999@arrnews.store
SUMMARY:149th Annual Wellington Show\, 15-16 May 2026
DESCRIPTION:
URL:https://arrnews.store/event/149th-annual-wellington-show-15-16-may-2026
LOCATION:Wellington Showgrounds\, CWVJ+FGC\, Mount Arthur\, New South Wales\, 2820\, Australia
CATEGORIES:Agricultural shows
END:VEVENT
BEGIN:VEVENT
DTSTART;VALUE=DATE:20260515
DTEND;VALUE=DATE:20260517
DTSTAMP:20260422T110558
CREATED:20260205T010901Z
LAST-MODIFIED:20260205T010901Z
UID:10000927-1778803200-1778975999@arrnews.store
SUMMARY:Mildura Field Days\, 15-16 May 2026
DESCRIPTION:
URL:https://arrnews.store/event/mildura-field-days-15-16-may-2026
LOCATION:Mildura Racecourse\, R676+973\, Nichols Point\, Victoria\, 3501\, Australia
CATEGORIES:Agricultural shows
END:VEVENT
BEGIN:VEVENT
DTSTART;VALUE=DATE:20260515
DTEND;VALUE=DATE:20260518
DTSTAMP:20260422T110559
CREATED:20250413T091252Z
LAST-MODIFIED:20250723T200310Z
UID:10000520-1778803200-1779062399@arrnews.store
SUMMARY:Ipswich Show\, 15-17 May 2026
DESCRIPTION:
URL:https://arrnews.store/event/ipswich-show-15-17-may-2026
LOCATION:Ipswich Showgrounds\, 9QC5+CH8\, Ipswich\, Queensland\, 4305\, Australia
CATEGORIES:Agricultural shows
END:VEVENT
BEGIN:VEVENT
DTSTART;VALUE=DATE:20260516
DTEND;VALUE=DATE:20260518
DTSTAMP:20260422T110559
CREATED:20250413T093915Z
LAST-MODIFIED:20250723T200547Z
UID:10000521-1778889600-1779062399@arrnews.store
SUMMARY:Biggenden Show & Rodeo\, 16-17 May 2026
DESCRIPTION:
URL:https://arrnews.store/event/biggenden-show-rodeo-16-17-may-2026
LOCATION:Biggenden Showgrounds\, F2QV+32J\, Biggenden\, Queensland\, 4621\, Australia
CATEGORIES:Agricultural shows
END:VEVENT
BEGIN:VEVENT
DTSTART;VALUE=DATE:20260516
DTEND;VALUE=DATE:20260518
DTSTAMP:20260422T110559
CREATED:20250413T094219Z
LAST-MODIFIED:20250723T200500Z
UID:10000522-1778889600-1779062399@arrnews.store
SUMMARY:Blackbutt Show\, 16-17 May 2026
DESCRIPTION:
URL:https://arrnews.store/event/blackbutt-show-16-17-may-2026
LOCATION:Blackbutt Showgrounds\, 4493+R5\, Blackbutt\, Queensland\, 4314\, Australia
CATEGORIES:Agricultural shows
END:VEVENT
BEGIN:VEVENT
DTSTART;VALUE=DATE:20260517
DTEND;VALUE=DATE:20260519
DTSTAMP:20260422T110559
CREATED:20250427T110705Z
LAST-MODIFIED:20250715T174849Z
UID:10000489-1778976000-1779148799@arrnews.store
SUMMARY:Nyngan Show\, 17-18 May 2026
DESCRIPTION:
URL:https://arrnews.store/event/nyngan-show-17-18-may-2026
LOCATION:Nyngan Showgrounds\, C5FX+X63\, Nyngan\, New South Wales\, 2825\, Australia
CATEGORIES:Agricultural shows
END:VEVENT
BEGIN:VEVENT
DTSTART;VALUE=DATE:20260518
DTEND;VALUE=DATE:20260521
DTSTAMP:20260422T110559
CREATED:20241228T212553Z
LAST-MODIFIED:20260206T003443Z
UID:10000524-1779062400-1779321599@arrnews.store
SUMMARY:Alpha Show\, 18-20 May 2026
DESCRIPTION:
URL:https://arrnews.store/event/alpha-show-18-20-may-2026
LOCATION:Alpha Showgrounds\, Alpha Showgrounds Road\, Alpha\, Queensland\, 4724\, Australia
CATEGORIES:Agricultural shows
END:VEVENT
BEGIN:VEVENT
DTSTART;VALUE=DATE:20260519
DTEND;VALUE=DATE:20260521
DTSTAMP:20260422T110559
CREATED:20250413T094915Z
LAST-MODIFIED:20250723T200742Z
UID:10000525-1779148800-1779321599@arrnews.store
SUMMARY:Miles Show\, 19-20 May 2026
DESCRIPTION:
URL:https://arrnews.store/event/miles-show-19-20-may-2026
LOCATION:Miles Showgrounds\, 85PM+P8M\, Miles\, Queensland\, 4415\, Australia
CATEGORIES:Agricultural shows
END:VEVENT
BEGIN:VEVENT
DTSTART;VALUE=DATE:20260522
DTEND;VALUE=DATE:20260523
DTSTAMP:20260422T110559
CREATED:20250422T114323Z
LAST-MODIFIED:20250723T201126Z
UID:10000526-1779408000-1779494399@arrnews.store
SUMMARY:Fraser Coast Agriculture Show\, 22 May 2026
DESCRIPTION:
URL:https://arrnews.store/event/fraser-coast-agriculture-show-22-may-2026
LOCATION:Maryborough Showgrounds\, FM2H+GX\, Tinana\, Queensland\, 4650\, Australia
CATEGORIES:Agricultural shows
END:VEVENT
BEGIN:VEVENT
DTSTART;VALUE=DATE:20260522
DTEND;VALUE=DATE:20260524
DTSTAMP:20260422T110559
CREATED:20250406T104329Z
LAST-MODIFIED:20250723T201311Z
UID:10000527-1779408000-1779580799@arrnews.store
SUMMARY:Capella Show\, 22-23 May 2026
DESCRIPTION:
URL:https://arrnews.store/event/capella-show-22-23-may-2026
LOCATION:Capella Showgrounds\, W278+579\, Capella\, Queensland\, 4723\, Australia
CATEGORIES:Agricultural shows
END:VEVENT
BEGIN:VEVENT
DTSTART;VALUE=DATE:20260522
DTEND;VALUE=DATE:20260524
DTSTAMP:20260422T110559
CREATED:20250422T120538Z
LAST-MODIFIED:20250723T201351Z
UID:10000528-1779408000-1779580799@arrnews.store
SUMMARY:Chinchilla Show\, 22-23 May 2026
DESCRIPTION:
URL:https://arrnews.store/event/chinchilla-show-22-23-may-2026
LOCATION:Chinchilla Showgrounds\, 6JWC+R48\, Chinchilla\, Queensland\, 4413
CATEGORIES:Agricultural shows
END:VEVENT
BEGIN:VEVENT
DTSTART;VALUE=DATE:20260522
DTEND;VALUE=DATE:20260525
DTSTAMP:20260422T110559
CREATED:20250427T112418Z
LAST-MODIFIED:20250715T174942Z
UID:10000491-1779408000-1779667199@arrnews.store
SUMMARY:Dubbo Show\, 22-24 May 2026
DESCRIPTION:
URL:https://arrnews.store/event/dubbo-show-22-24-may-2026
LOCATION:Dubbo Showground\, QJ38+6F\, Dubbo\, New South Wales\, 2830\, Australia
CATEGORIES:Agricultural shows
END:VEVENT
BEGIN:VEVENT
DTSTART;VALUE=DATE:20260523
DTEND;VALUE=DATE:20260524
DTSTAMP:20260422T110559
CREATED:20250104T073430Z
LAST-MODIFIED:20250723T201433Z
UID:10000530-1779494400-1779580799@arrnews.store
SUMMARY:Esk Show\, 23 May 2026
DESCRIPTION:
URL:https://arrnews.store/event/esk-show-23-may-2026
LOCATION:Esk Showgrounds\, QC38+VR\, Esk\, Queensland\, 4312\, Australia
CATEGORIES:Agricultural shows
END:VEVENT
BEGIN:VEVENT
DTSTART;VALUE=DATE:20260523
DTEND;VALUE=DATE:20260524
DTSTAMP:20260422T110559
CREATED:20250422T115244Z
LAST-MODIFIED:20250723T201501Z
UID:10000523-1779494400-1779580799@arrnews.store
SUMMARY:Isisford Show\, 23 May\, 2026
DESCRIPTION:
URL:https://arrnews.store/event/isisford-show-23-may-2026
LOCATION:Isisford Racecourse\, 5R76QC8G+6F\, Isisford\, Queensland\, 4731\, Australia
CATEGORIES:Agricultural shows
END:VEVENT
BEGIN:VEVENT
DTSTART;VALUE=DATE:20260523
DTEND;VALUE=DATE:20260525
DTSTAMP:20260422T110559
CREATED:20250427T102244Z
LAST-MODIFIED:20250723T201615Z
UID:10000518-1779494400-1779667199@arrnews.store
SUMMARY:Brookfield Show\, 23-24 May 2026
DESCRIPTION:
URL:https://arrnews.store/event/brookfield-show-23-24-may-2026
LOCATION:Brookfield Showground\, GW46+JX\, Brookfield\, Queensland\, 4069\, Australia
CATEGORIES:Agricultural shows
END:VEVENT
BEGIN:VEVENT
DTSTART;VALUE=DATE:20260526
DTEND;VALUE=DATE:20260528
DTSTAMP:20260422T110559
CREATED:20250427T111420Z
LAST-MODIFIED:20250723T201702Z
UID:10000533-1779753600-1779926399@arrnews.store
SUMMARY:Clermont Show\, 26-27 May 2026
DESCRIPTION:
URL:https://arrnews.store/event/clermont-show-26-27-may-2026
LOCATION:Clermont Showground\, 5R995M93+99\, Clermont\, Queensland\, 4721
CATEGORIES:Agricultural shows
END:VEVENT
BEGIN:VEVENT
DTSTART;VALUE=DATE:20260526
DTEND;VALUE=DATE:20260528
DTSTAMP:20260422T110559
CREATED:20250715T175020Z
LAST-MODIFIED:20250715T175020Z
UID:10000492-1779753600-1779926399@arrnews.store
SUMMARY:Coonamble Show\, 26-27 May 2026
DESCRIPTION:
URL:https://arrnews.store/event/coonamble-show-26-27-may-2026
LOCATION:Coonamble Showground\, 29HP+Q72\, Coonamble\, New South Wales\, 2829\, Australia
CATEGORIES:Agricultural shows
END:VEVENT
BEGIN:VEVENT
DTSTART;VALUE=DATE:20260527
DTEND;VALUE=DATE:20260530
DTSTAMP:20260422T110559
CREATED:20250427T111723Z
LAST-MODIFIED:20250723T201750Z
UID:10000534-1779840000-1780099199@arrnews.store
SUMMARY:Bundaberg Show\, 27-29 May 2026
DESCRIPTION:
URL:https://arrnews.store/event/bundaberg-show-27-29-may-2026
LOCATION:Bundaberg Showgrounds\, 48FW+GH5\, Bundaberg West\, Queensland\, 4670\, Australia
CATEGORIES:Agricultural shows
END:VEVENT
BEGIN:VEVENT
DTSTART;VALUE=DATE:20260529
DTEND;VALUE=DATE:20260531
DTSTAMP:20260422T110559
CREATED:20240526T102807Z
LAST-MODIFIED:20250723T201912Z
UID:10000127-1780012800-1780185599@arrnews.store
SUMMARY:Springsure Show\, 29-30 May 2026
DESCRIPTION:
URL:https://arrnews.store/event/springsure-show-29-30-may-2026
LOCATION:Springsure Showgrounds\, V3GM+R8 S\, Springsure\, Queensland\, 4722\, Australia
CATEGORIES:Agricultural shows
END:VEVENT
BEGIN:VEVENT
DTSTART;VALUE=DATE:20260529
DTEND;VALUE=DATE:20260531
DTSTAMP:20260422T110559
CREATED:20240526T073034Z
LAST-MODIFIED:20250723T201830Z
UID:10000123-1780012800-1780185599@arrnews.store
SUMMARY:Boonah Show\, 29-30 May 2026
DESCRIPTION:
URL:https://arrnews.store/event/boonah-show-29-30-may-2026
LOCATION:Boonah Showgrounds\, 2M3P+2M Boonah\, Queensland\, Australia\, Queensland\, 4310\, Australia
CATEGORIES:Agricultural shows
END:VEVENT
BEGIN:VEVENT
DTSTART;VALUE=DATE:20260529
DTEND;VALUE=DATE:20260531
DTSTAMP:20260422T110559
CREATED:20240526T075159Z
LAST-MODIFIED:20250723T201955Z
UID:10000124-1780012800-1780185599@arrnews.store
SUMMARY:Hughenden Show\, 29-30 May 2026
DESCRIPTION:
URL:https://arrnews.store/event/hughenden-show-29-30-may-2026
LOCATION:Hughenden Showgrounds\, 5645+99\, Hughenden\, Queensland\, 4821\, Australia
CATEGORIES:Agricultural shows
END:VEVENT
BEGIN:VEVENT
DTSTART;VALUE=DATE:20260529
DTEND;VALUE=DATE:20260531
DTSTAMP:20260422T110559
CREATED:20240526T080243Z
LAST-MODIFIED:20250724T151951Z
UID:10000125-1780012800-1780185599@arrnews.store
SUMMARY:Campbell Town Show\, 29-30 May 2026
DESCRIPTION:
URL:https://arrnews.store/event/campbell-town-show-30-31-may-2025
LOCATION:Campbell Town Showgrounds\, 3FGV+77\, Campbell Town\, Tasmania\, 7210\, Australia
CATEGORIES:Agricultural shows
END:VEVENT
END:VCALENDAR