BEGIN:VCALENDAR
VERSION:2.0
PRODID:-//ARR.News Store - ECPv6.15.17//NONSGML v1.0//EN
CALSCALE:GREGORIAN
METHOD:PUBLISH
X-WR-CALNAME:ARR.News Store
X-ORIGINAL-URL:https://arrnews.store
X-WR-CALDESC:Events for ARR.News Store
REFRESH-INTERVAL;VALUE=DURATION:PT1H
X-Robots-Tag:noindex
X-PUBLISHED-TTL:PT1H
BEGIN:VTIMEZONE
TZID:Australia/Brisbane
BEGIN:STANDARD
TZOFFSETFROM:+1000
TZOFFSETTO:+1000
TZNAME:AEST
DTSTART:20250101T000000
END:STANDARD
END:VTIMEZONE
BEGIN:VTIMEZONE
TZID:Australia/Sydney
BEGIN:STANDARD
TZOFFSETFROM:+1100
TZOFFSETTO:+1000
TZNAME:AEST
DTSTART:20250405T160000
END:STANDARD
BEGIN:DAYLIGHT
TZOFFSETFROM:+1000
TZOFFSETTO:+1100
TZNAME:AEDT
DTSTART:20251004T160000
END:DAYLIGHT
BEGIN:STANDARD
TZOFFSETFROM:+1100
TZOFFSETTO:+1000
TZNAME:AEST
DTSTART:20260404T160000
END:STANDARD
BEGIN:DAYLIGHT
TZOFFSETFROM:+1000
TZOFFSETTO:+1100
TZNAME:AEDT
DTSTART:20261003T160000
END:DAYLIGHT
BEGIN:STANDARD
TZOFFSETFROM:+1100
TZOFFSETTO:+1000
TZNAME:AEST
DTSTART:20270403T160000
END:STANDARD
BEGIN:DAYLIGHT
TZOFFSETFROM:+1000
TZOFFSETTO:+1100
TZNAME:AEDT
DTSTART:20271002T160000
END:DAYLIGHT
END:VTIMEZONE
BEGIN:VEVENT
DTSTART;VALUE=DATE:20260522
DTEND;VALUE=DATE:20260523
DTSTAMP:20260422T073855
CREATED:20250422T114323Z
LAST-MODIFIED:20250723T201126Z
UID:10000526-1779408000-1779494399@arrnews.store
SUMMARY:Fraser Coast Agriculture Show\, 22 May 2026
DESCRIPTION:
URL:https://arrnews.store/event/fraser-coast-agriculture-show-22-may-2026
LOCATION:Maryborough Showgrounds\, FM2H+GX\, Tinana\, Queensland\, 4650\, Australia
CATEGORIES:Agricultural shows
END:VEVENT
BEGIN:VEVENT
DTSTART;VALUE=DATE:20260522
DTEND;VALUE=DATE:20260524
DTSTAMP:20260422T073855
CREATED:20250406T104329Z
LAST-MODIFIED:20250723T201311Z
UID:10000527-1779408000-1779580799@arrnews.store
SUMMARY:Capella Show\, 22-23 May 2026
DESCRIPTION:
URL:https://arrnews.store/event/capella-show-22-23-may-2026
LOCATION:Capella Showgrounds\, W278+579\, Capella\, Queensland\, 4723\, Australia
CATEGORIES:Agricultural shows
END:VEVENT
BEGIN:VEVENT
DTSTART;VALUE=DATE:20260522
DTEND;VALUE=DATE:20260524
DTSTAMP:20260422T073855
CREATED:20250422T120538Z
LAST-MODIFIED:20250723T201351Z
UID:10000528-1779408000-1779580799@arrnews.store
SUMMARY:Chinchilla Show\, 22-23 May 2026
DESCRIPTION:
URL:https://arrnews.store/event/chinchilla-show-22-23-may-2026
LOCATION:Chinchilla Showgrounds\, 6JWC+R48\, Chinchilla\, Queensland\, 4413
CATEGORIES:Agricultural shows
END:VEVENT
BEGIN:VEVENT
DTSTART;VALUE=DATE:20260522
DTEND;VALUE=DATE:20260525
DTSTAMP:20260422T073855
CREATED:20250427T112418Z
LAST-MODIFIED:20250715T174942Z
UID:10000491-1779408000-1779667199@arrnews.store
SUMMARY:Dubbo Show\, 22-24 May 2026
DESCRIPTION:
URL:https://arrnews.store/event/dubbo-show-22-24-may-2026
LOCATION:Dubbo Showground\, QJ38+6F\, Dubbo\, New South Wales\, 2830\, Australia
CATEGORIES:Agricultural shows
END:VEVENT
END:VCALENDAR