BEGIN:VCALENDAR
VERSION:2.0
PRODID:-//ARR.News Store - ECPv6.15.17//NONSGML v1.0//EN
CALSCALE:GREGORIAN
METHOD:PUBLISH
X-ORIGINAL-URL:https://arrnews.store
X-WR-CALDESC:Events for ARR.News Store
REFRESH-INTERVAL;VALUE=DURATION:PT1H
X-Robots-Tag:noindex
X-PUBLISHED-TTL:PT1H
BEGIN:VTIMEZONE
TZID:Australia/Sydney
BEGIN:STANDARD
TZOFFSETFROM:+1100
TZOFFSETTO:+1000
TZNAME:AEST
DTSTART:20250405T160000
END:STANDARD
BEGIN:DAYLIGHT
TZOFFSETFROM:+1000
TZOFFSETTO:+1100
TZNAME:AEDT
DTSTART:20251004T160000
END:DAYLIGHT
BEGIN:STANDARD
TZOFFSETFROM:+1100
TZOFFSETTO:+1000
TZNAME:AEST
DTSTART:20260404T160000
END:STANDARD
BEGIN:DAYLIGHT
TZOFFSETFROM:+1000
TZOFFSETTO:+1100
TZNAME:AEDT
DTSTART:20261003T160000
END:DAYLIGHT
BEGIN:STANDARD
TZOFFSETFROM:+1100
TZOFFSETTO:+1000
TZNAME:AEST
DTSTART:20270403T160000
END:STANDARD
BEGIN:DAYLIGHT
TZOFFSETFROM:+1000
TZOFFSETTO:+1100
TZNAME:AEDT
DTSTART:20271002T160000
END:DAYLIGHT
END:VTIMEZONE
BEGIN:VTIMEZONE
TZID:Australia/Brisbane
BEGIN:STANDARD
TZOFFSETFROM:+1000
TZOFFSETTO:+1000
TZNAME:AEST
DTSTART:20250101T000000
END:STANDARD
END:VTIMEZONE
BEGIN:VEVENT
DTSTART;VALUE=DATE:20260507
DTEND;VALUE=DATE:20260510
DTSTAMP:20260422T074327
CREATED:20241206T225617Z
LAST-MODIFIED:20250724T151901Z
UID:10000538-1778112000-1778371199@arrnews.store
SUMMARY:Agfest Show\, 7-9 May 2026
DESCRIPTION:
URL:https://arrnews.store/event/agfest-show-7-9-may-2026
LOCATION:Quercus Park\, CXPQ+54\, Carrick\, Tasmania\, 7291\, Australia
CATEGORIES:Agricultural shows
END:VEVENT
BEGIN:VEVENT
DTSTART;VALUE=DATE:20260507
DTEND;VALUE=DATE:20260510
DTSTAMP:20260422T074327
CREATED:20250427T110947Z
LAST-MODIFIED:20250722T122748Z
UID:10000508-1778112000-1778371199@arrnews.store
SUMMARY:Roma Show\, 7-9 May 2026
DESCRIPTION:
URL:https://arrnews.store/event/roma-show-7-9-may-2026
LOCATION:Bassett Park\, CQXP+QVC\, Roma\, Queensland\, 4455\, Australia
CATEGORIES:Agricultural shows
END:VEVENT
BEGIN:VEVENT
DTSTART;VALUE=DATE:20260507
DTEND;VALUE=DATE:20260511
DTSTAMP:20260422T074327
CREATED:20250413T080641Z
LAST-MODIFIED:20250713T122120Z
UID:10000490-1778112000-1778457599@arrnews.store
SUMMARY:Warialda Show\, 7-10 May 2026
DESCRIPTION:
URL:https://arrnews.store/event/warialda-show-7-10-may-2026
LOCATION:Warialda Showgrounds\, FH58+4Q8\, Warialda\, 2402\, Australia
CATEGORIES:Agricultural shows
END:VEVENT
BEGIN:VEVENT
DTSTART;VALUE=DATE:20260508
DTEND;VALUE=DATE:20260510
DTSTAMP:20260422T074327
CREATED:20250406T105504Z
LAST-MODIFIED:20250722T122905Z
UID:10000511-1778198400-1778371199@arrnews.store
SUMMARY:Mundubbera Show\, 8-9 May 2026
DESCRIPTION:
URL:https://arrnews.store/event/mundubbera-show-8-9-may-2026
LOCATION:Mundubbera Showground\, C77X+WG7\, Mundubbera\, Queensland\, 4626\, Australia
CATEGORIES:Agricultural shows
END:VEVENT
BEGIN:VEVENT
DTSTART;VALUE=DATE:20260508
DTEND;VALUE=DATE:20260510
DTSTAMP:20260422T074327
CREATED:20250630T051720Z
LAST-MODIFIED:20250722T122830Z
UID:10000510-1778198400-1778371199@arrnews.store
SUMMARY:Marburg Show\, 8-9 May 2026
DESCRIPTION:
URL:https://arrnews.store/event/marburg-show-8-9-may-2026
LOCATION:Marburg Showgrounds\, CHHX+6FJ\, Marburg\, Queensland\, 4346\, Australia
CATEGORIES:Agricultural shows
END:VEVENT
BEGIN:VEVENT
DTSTART;VALUE=DATE:20260508
DTEND;VALUE=DATE:20260511
DTSTAMP:20260422T074327
CREATED:20250413T075735Z
LAST-MODIFIED:20250722T123013Z
UID:10000512-1778198400-1778457599@arrnews.store
SUMMARY:Blackall Show\, 8-10 May 2026
DESCRIPTION:
URL:https://arrnews.store/event/blackall-show-8-10-may-2026
LOCATION:Blackall Showgrounds\, 1 Salvia St\, Blackall\, Queensland\, 4472\, Australia
CATEGORIES:Agricultural shows
END:VEVENT
BEGIN:VEVENT
DTSTART;VALUE=DATE:20260509
DTEND;VALUE=DATE:20260510
DTSTAMP:20260422T074327
CREATED:20250413T081116Z
LAST-MODIFIED:20250722T123150Z
UID:10000621-1778284800-1778371199@arrnews.store
SUMMARY:Crows Nest Show\, 9 May 2026
DESCRIPTION:
URL:https://arrnews.store/event/crows-nest-show-9-may-2026
LOCATION:Crows Nest Showgrounds\, P2RW+X4F\, Crows Nest\, Queensland\, 3455\, Australia
CATEGORIES:Agricultural shows
END:VEVENT
BEGIN:VEVENT
DTSTART;VALUE=DATE:20260509
DTEND;VALUE=DATE:20260510
DTSTAMP:20260422T074327
CREATED:20250413T082006Z
LAST-MODIFIED:20250722T123231Z
UID:10000472-1778284800-1778371199@arrnews.store
SUMMARY:Baralaba Show\, 9 May 2026
DESCRIPTION:
URL:https://arrnews.store/event/baralaba-show-9-may-2026
LOCATION:Baralaba Showgrounds\, RR88+764\, Baralaba\, Queensland\, 4702\, Australia
CATEGORIES:Agricultural shows
END:VEVENT
BEGIN:VEVENT
DTSTART;VALUE=DATE:20260509
DTEND;VALUE=DATE:20260510
DTSTAMP:20260422T074327
CREATED:20250413T094456Z
LAST-MODIFIED:20250713T122230Z
UID:10000540-1778284800-1778371199@arrnews.store
SUMMARY:Bourke Show\, 9 May 2026
DESCRIPTION:
URL:https://arrnews.store/event/bourke-show-9-may-2026
LOCATION:Renshaw Showgrounds\, 4RX7WW2G+PQ\, Bourke\, New South Wales\, 2840\, Australia
CATEGORIES:Agricultural shows
END:VEVENT
BEGIN:VEVENT
DTSTART;VALUE=DATE:20260509
DTEND;VALUE=DATE:20260511
DTSTAMP:20260422T074327
CREATED:20241228T211129Z
LAST-MODIFIED:20250713T122204Z
UID:10000487-1778284800-1778457599@arrnews.store
SUMMARY:Bellingen Show\, 9-10 May 2026
DESCRIPTION:
URL:https://arrnews.store/event/bellingen-show-9-10-may-2026
LOCATION:Bellingen Showgrounds\, HV3X+49\, Bellingen\, New South Wales\, 2454\, Australia
CATEGORIES:Agricultural shows
END:VEVENT
BEGIN:VEVENT
DTSTART;VALUE=DATE:20260509
DTEND;VALUE=DATE:20260511
DTSTAMP:20260422T074327
CREATED:20250112T115354Z
LAST-MODIFIED:20250713T122352Z
UID:10000594-1778284800-1778457599@arrnews.store
SUMMARY:Walgett Show\, 9-10 May 2026
DESCRIPTION:
URL:https://arrnews.store/event/walgett-show-9-10-may-2026
LOCATION:Walgett Racecourse and Showground\, 4RXCX4HP+25\, Walgett\, New South Wales\, 2832\, Australia
CATEGORIES:Agricultural shows
END:VEVENT
BEGIN:VEVENT
DTSTART;VALUE=DATE:20260509
DTEND;VALUE=DATE:20260511
DTSTAMP:20260422T074327
CREATED:20250413T094705Z
LAST-MODIFIED:20250713T122308Z
UID:10000466-1778284800-1778457599@arrnews.store
SUMMARY:Orange Show\, 9-10 May 2026
DESCRIPTION:
URL:https://arrnews.store/event/orange-show-9-10-may-2026
LOCATION:Orange Showground\, P4H6+M8R\, Orange\, New South Wales\, 2800\, Australia
CATEGORIES:Agricultural shows
END:VEVENT
END:VCALENDAR