BEGIN:VCALENDAR
VERSION:2.0
PRODID:-//ARR.News Store - ECPv6.15.17//NONSGML v1.0//EN
CALSCALE:GREGORIAN
METHOD:PUBLISH
X-WR-CALNAME:ARR.News Store
X-ORIGINAL-URL:https://arrnews.store
X-WR-CALDESC:Events for ARR.News Store
REFRESH-INTERVAL;VALUE=DURATION:PT1H
X-Robots-Tag:noindex
X-PUBLISHED-TTL:PT1H
BEGIN:VTIMEZONE
TZID:Australia/Sydney
BEGIN:STANDARD
TZOFFSETFROM:+1100
TZOFFSETTO:+1000
TZNAME:AEST
DTSTART:20250405T160000
END:STANDARD
BEGIN:DAYLIGHT
TZOFFSETFROM:+1000
TZOFFSETTO:+1100
TZNAME:AEDT
DTSTART:20251004T160000
END:DAYLIGHT
BEGIN:STANDARD
TZOFFSETFROM:+1100
TZOFFSETTO:+1000
TZNAME:AEST
DTSTART:20260404T160000
END:STANDARD
BEGIN:DAYLIGHT
TZOFFSETFROM:+1000
TZOFFSETTO:+1100
TZNAME:AEDT
DTSTART:20261003T160000
END:DAYLIGHT
BEGIN:STANDARD
TZOFFSETFROM:+1100
TZOFFSETTO:+1000
TZNAME:AEST
DTSTART:20270403T160000
END:STANDARD
BEGIN:DAYLIGHT
TZOFFSETFROM:+1000
TZOFFSETTO:+1100
TZNAME:AEDT
DTSTART:20271002T160000
END:DAYLIGHT
END:VTIMEZONE
BEGIN:VTIMEZONE
TZID:Australia/Brisbane
BEGIN:STANDARD
TZOFFSETFROM:+1000
TZOFFSETTO:+1000
TZNAME:AEST
DTSTART:20250101T000000
END:STANDARD
END:VTIMEZONE
BEGIN:VEVENT
DTSTART;VALUE=DATE:20260410
DTEND;VALUE=DATE:20260412
DTSTAMP:20260422T061049
CREATED:20250309T021115Z
LAST-MODIFIED:20250710T164836Z
UID:10000446-1775779200-1775951999@arrnews.store
SUMMARY:Wauchope Show\, 10-11 April 2026
DESCRIPTION:
URL:https://arrnews.store/event/wauchope-show-10-11-april-2026
LOCATION:Wauchope Showground\, GPVF+498\, Wauchope\, New South Wales\, 2446\, Australia
CATEGORIES:Agricultural shows
END:VEVENT
BEGIN:VEVENT
DTSTART;VALUE=DATE:20260410
DTEND;VALUE=DATE:20260412
DTSTAMP:20260422T061049
CREATED:20250216T085000Z
LAST-MODIFIED:20250719T135659Z
UID:10000471-1775779200-1775951999@arrnews.store
SUMMARY:Dalby Show\, 10-11 April 2026
DESCRIPTION:
URL:https://arrnews.store/event/dalby-show-10-11-april-2026
LOCATION:Dalby Showgrounds\, R793+P72\, Dalby\, Queensland\, 4405\, Australia
CATEGORIES:Agricultural shows
END:VEVENT
BEGIN:VEVENT
DTSTART;VALUE=DATE:20260410
DTEND;VALUE=DATE:20260412
DTSTAMP:20260422T061049
CREATED:20250309T021610Z
LAST-MODIFIED:20250710T164642Z
UID:10000465-1775779200-1775951999@arrnews.store
SUMMARY:Moree Show\, 10-11 April 2026
DESCRIPTION:
URL:https://arrnews.store/event/moree-show-10-11-april-2026
LOCATION:Moree Showground\, Moree Show\, Moree\, New South Wales\, 2400\, Australia
CATEGORIES:Agricultural shows
END:VEVENT
END:VCALENDAR