BEGIN:VCALENDAR
VERSION:2.0
PRODID:-//ARR.News Store - ECPv6.15.17//NONSGML v1.0//EN
CALSCALE:GREGORIAN
METHOD:PUBLISH
X-ORIGINAL-URL:https://arrnews.store
X-WR-CALDESC:Events for ARR.News Store
REFRESH-INTERVAL;VALUE=DURATION:PT1H
X-Robots-Tag:noindex
X-PUBLISHED-TTL:PT1H
BEGIN:VTIMEZONE
TZID:Australia/Brisbane
BEGIN:STANDARD
TZOFFSETFROM:+1000
TZOFFSETTO:+1000
TZNAME:AEST
DTSTART:20250101T000000
END:STANDARD
END:VTIMEZONE
BEGIN:VEVENT
DTSTART;VALUE=DATE:20260326
DTEND;VALUE=DATE:20260329
DTSTAMP:20260422T081259
CREATED:20250104T082407Z
LAST-MODIFIED:20250719T135625Z
UID:10000017-1774483200-1774742399@arrnews.store
SUMMARY:Toowoomba Royal Show\, 26-28 March\, 2026
DESCRIPTION:
URL:https://arrnews.store/event/toowoomba-royal-show-26-28-march-2026
LOCATION:Toowoomba Showgrounds\, CVRM+83\, Glenvale\, Queensland\, 4350\, Australia
CATEGORIES:Agricultural shows
END:VEVENT
END:VCALENDAR