BEGIN:VCALENDAR
VERSION:2.0
PRODID:-//ARR.News Store - ECPv6.15.17//NONSGML v1.0//EN
CALSCALE:GREGORIAN
METHOD:PUBLISH
X-ORIGINAL-URL:https://arrnews.store
X-WR-CALDESC:Events for ARR.News Store
REFRESH-INTERVAL;VALUE=DURATION:PT1H
X-Robots-Tag:noindex
X-PUBLISHED-TTL:PT1H
BEGIN:VTIMEZONE
TZID:Australia/Brisbane
BEGIN:STANDARD
TZOFFSETFROM:+1000
TZOFFSETTO:+1000
TZNAME:AEST
DTSTART:20250101T000000
END:STANDARD
END:VTIMEZONE
BEGIN:VTIMEZONE
TZID:Australia/Sydney
BEGIN:STANDARD
TZOFFSETFROM:+1100
TZOFFSETTO:+1000
TZNAME:AEST
DTSTART:20250405T160000
END:STANDARD
BEGIN:DAYLIGHT
TZOFFSETFROM:+1000
TZOFFSETTO:+1100
TZNAME:AEDT
DTSTART:20251004T160000
END:DAYLIGHT
BEGIN:STANDARD
TZOFFSETFROM:+1100
TZOFFSETTO:+1000
TZNAME:AEST
DTSTART:20260404T160000
END:STANDARD
BEGIN:DAYLIGHT
TZOFFSETFROM:+1000
TZOFFSETTO:+1100
TZNAME:AEDT
DTSTART:20261003T160000
END:DAYLIGHT
BEGIN:STANDARD
TZOFFSETFROM:+1100
TZOFFSETTO:+1000
TZNAME:AEST
DTSTART:20270403T160000
END:STANDARD
BEGIN:DAYLIGHT
TZOFFSETFROM:+1000
TZOFFSETTO:+1100
TZNAME:AEDT
DTSTART:20271002T160000
END:DAYLIGHT
END:VTIMEZONE
BEGIN:VTIMEZONE
TZID:Australia/Hobart
BEGIN:STANDARD
TZOFFSETFROM:+1100
TZOFFSETTO:+1000
TZNAME:AEST
DTSTART:20250405T160000
END:STANDARD
BEGIN:DAYLIGHT
TZOFFSETFROM:+1000
TZOFFSETTO:+1100
TZNAME:AEDT
DTSTART:20251004T160000
END:DAYLIGHT
BEGIN:STANDARD
TZOFFSETFROM:+1100
TZOFFSETTO:+1000
TZNAME:AEST
DTSTART:20260404T160000
END:STANDARD
BEGIN:DAYLIGHT
TZOFFSETFROM:+1000
TZOFFSETTO:+1100
TZNAME:AEDT
DTSTART:20261003T160000
END:DAYLIGHT
BEGIN:STANDARD
TZOFFSETFROM:+1100
TZOFFSETTO:+1000
TZNAME:AEST
DTSTART:20270403T160000
END:STANDARD
BEGIN:DAYLIGHT
TZOFFSETFROM:+1000
TZOFFSETTO:+1100
TZNAME:AEDT
DTSTART:20271002T160000
END:DAYLIGHT
END:VTIMEZONE
BEGIN:VEVENT
DTSTART;VALUE=DATE:20260220
DTEND;VALUE=DATE:20260222
DTSTAMP:20260422T092636
CREATED:20250125T022749Z
LAST-MODIFIED:20260205T064135Z
UID:10000012-1771545600-1771718399@arrnews.store
SUMMARY:Killarney Show\, 20-21 February\, 2026
DESCRIPTION:
URL:https://arrnews.store/event/killarney-show-20-21-february-2026
LOCATION:Killarney Showgrounds\, M75V+7P\, Killarney\, Queensland\, 4373\, Australia
CATEGORIES:Agricultural shows
END:VEVENT
BEGIN:VEVENT
DTSTART;VALUE=DATE:20260220
DTEND;VALUE=DATE:20260222
DTSTAMP:20260422T092636
CREATED:20240206T093117Z
LAST-MODIFIED:20250708T113515Z
UID:10000056-1771545600-1771718399@arrnews.store
SUMMARY:Cessnock Show\, 20-21 February 2026
DESCRIPTION:
URL:https://arrnews.store/event/cessnock-show-20-21-february-2026
LOCATION:Cessnock Showground\, 111 Mount View Rd\, Cessnock\, New South Wales\, 2325\, Australia
CATEGORIES:Agricultural shows
END:VEVENT
BEGIN:VEVENT
DTSTART;VALUE=DATE:20260220
DTEND;VALUE=DATE:20260222
DTSTAMP:20260422T092636
CREATED:20240206T034729Z
LAST-MODIFIED:20250708T114723Z
UID:10000049-1771545600-1771718399@arrnews.store
SUMMARY:Guyra Show\, 20-21 February 2026
DESCRIPTION:
URL:https://arrnews.store/event/guyra-show-20-21-february-2026
LOCATION:Guyra Showground\, QMHG+XG\, Guyra\, New South Wales\, 2365\, Australia
CATEGORIES:Agricultural shows
END:VEVENT
BEGIN:VEVENT
DTSTART;VALUE=DATE:20260220
DTEND;VALUE=DATE:20260222
DTSTAMP:20260422T092636
CREATED:20250125T025414Z
LAST-MODIFIED:20250717T163335Z
UID:10000622-1771545600-1771718399@arrnews.store
SUMMARY:Cooyar Show\, 21 February 2026
DESCRIPTION:
URL:https://arrnews.store/event/cooyar-show-21-february-2026
LOCATION:Cooyar Showgrounds\, Lot 1 Cooyar-Rangemore Road\, Cooyar\, Queensland\, 4402\, Australia
CATEGORIES:Agricultural shows
END:VEVENT
BEGIN:VEVENT
DTSTART;VALUE=DATE:20260220
DTEND;VALUE=DATE:20260223
DTSTAMP:20260422T092636
CREATED:20240206T060234Z
LAST-MODIFIED:20250708T114616Z
UID:10000055-1771545600-1771804799@arrnews.store
SUMMARY:Royal Canberra Show\, 20-22 February 2026
DESCRIPTION:
URL:https://arrnews.store/event/royal-canberra-show-20-22-february-2026
LOCATION:Canberra Showground\, Q49W+VP\, Lyneham\, Australian Capital Territory\, 2911\, Australia
CATEGORIES:Agricultural shows
END:VEVENT
BEGIN:VEVENT
DTSTART;VALUE=DATE:20260221
DTEND;VALUE=DATE:20260222
DTSTAMP:20260422T092636
CREATED:20240206T045916Z
LAST-MODIFIED:20250724T150901Z
UID:10000019-1771632000-1771718399@arrnews.store
SUMMARY:Bushy Park Show\, 21 February 2026
DESCRIPTION:
URL:https://arrnews.store/event/bushy-park-show-21-february-2026
LOCATION:Bushy Park Showground\, 7WR2+9J\, Bushy Park\, Tasmania\, 7140\, Australia
CATEGORIES:Agricultural shows
END:VEVENT
BEGIN:VEVENT
DTSTART;VALUE=DATE:20260221
DTEND;VALUE=DATE:20260222
DTSTAMP:20260422T092636
CREATED:20240206T040536Z
LAST-MODIFIED:20250724T151012Z
UID:10000020-1771632000-1771718399@arrnews.store
SUMMARY:Chudleigh Show\, 21 February 2026
DESCRIPTION:
URL:https://arrnews.store/event/chudleigh-show-21-february-2026
LOCATION:Chudleigh Showground\, CFVJ+FF\, Chudleigh\, Tasmania\, 7304\, Australia
CATEGORIES:Agricultural shows
END:VEVENT
BEGIN:VEVENT
DTSTART;VALUE=DATE:20260221
DTEND;VALUE=DATE:20260222
DTSTAMP:20260422T092636
CREATED:20240214T030952Z
LAST-MODIFIED:20250708T115812Z
UID:10000065-1771632000-1771718399@arrnews.store
SUMMARY:Gulgong Show\, 21 February 2026
DESCRIPTION:
URL:https://arrnews.store/event/gulgong-show-21-february-2026
LOCATION:Gulgong Showground\, JGHG+FWP\, Gulgong\, New South Wales\, 2852\, Australia
CATEGORIES:Agricultural shows
END:VEVENT
BEGIN:VEVENT
DTSTART;VALUE=DATE:20260221
DTEND;VALUE=DATE:20260223
DTSTAMP:20260422T092636
CREATED:20240205T072157Z
LAST-MODIFIED:20250708T115539Z
UID:10000051-1771632000-1771804799@arrnews.store
SUMMARY:Ashford Show\, 21-22 February 2026
DESCRIPTION:
URL:https://arrnews.store/event/ashford-show-21-22-february-2026
LOCATION:Ashford Showground\, M4XC+GR\, Ashford\, New South Wales\, 2360\, Australia
CATEGORIES:Agricultural shows
END:VEVENT
END:VCALENDAR