BEGIN:VCALENDAR
VERSION:2.0
PRODID:-//ARR.News Store - ECPv6.15.17//NONSGML v1.0//EN
CALSCALE:GREGORIAN
METHOD:PUBLISH
X-WR-CALNAME:ARR.News Store
X-ORIGINAL-URL:https://arrnews.store
X-WR-CALDESC:Events for ARR.News Store
REFRESH-INTERVAL;VALUE=DURATION:PT1H
X-Robots-Tag:noindex
X-PUBLISHED-TTL:PT1H
BEGIN:VTIMEZONE
TZID:Australia/Sydney
BEGIN:STANDARD
TZOFFSETFROM:+1100
TZOFFSETTO:+1000
TZNAME:AEST
DTSTART:20250405T160000
END:STANDARD
BEGIN:DAYLIGHT
TZOFFSETFROM:+1000
TZOFFSETTO:+1100
TZNAME:AEDT
DTSTART:20251004T160000
END:DAYLIGHT
BEGIN:STANDARD
TZOFFSETFROM:+1100
TZOFFSETTO:+1000
TZNAME:AEST
DTSTART:20260404T160000
END:STANDARD
BEGIN:DAYLIGHT
TZOFFSETFROM:+1000
TZOFFSETTO:+1100
TZNAME:AEDT
DTSTART:20261003T160000
END:DAYLIGHT
BEGIN:STANDARD
TZOFFSETFROM:+1100
TZOFFSETTO:+1000
TZNAME:AEST
DTSTART:20270403T160000
END:STANDARD
BEGIN:DAYLIGHT
TZOFFSETFROM:+1000
TZOFFSETTO:+1100
TZNAME:AEDT
DTSTART:20271002T160000
END:DAYLIGHT
END:VTIMEZONE
BEGIN:VTIMEZONE
TZID:Australia/Brisbane
BEGIN:STANDARD
TZOFFSETFROM:+1000
TZOFFSETTO:+1000
TZNAME:AEST
DTSTART:20250101T000000
END:STANDARD
END:VTIMEZONE
BEGIN:VEVENT
DTSTART;VALUE=DATE:20260206
DTEND;VALUE=DATE:20260208
DTSTAMP:20260422T093550
CREATED:20240131T094935Z
LAST-MODIFIED:20250708T102244Z
UID:10000038-1770336000-1770508799@arrnews.store
SUMMARY:Nowra Show\, 6-7 February 2026
DESCRIPTION:
URL:https://arrnews.store/event/nowra-show-6-7-february-2026
LOCATION:Nowra Showground\, 4HGR+2R\, Nowra\, New South Wales\, 2541\, Australia
CATEGORIES:Agricultural shows
END:VEVENT
BEGIN:VEVENT
DTSTART;VALUE=DATE:20260206
DTEND;VALUE=DATE:20260208
DTSTAMP:20260422T093550
CREATED:20240123T045623Z
LAST-MODIFIED:20250717T163201Z
UID:10000011-1770336000-1770508799@arrnews.store
SUMMARY:Allora Annual Show\, 6-7 February 2026
DESCRIPTION:
URL:https://arrnews.store/event/allora-annual-show-6-7-february-2026
LOCATION:Allora Showgrounds\, XX6Q+8R\, Allora\, Queensland\, 4362\, Australia
CATEGORIES:Agricultural shows
END:VEVENT
BEGIN:VEVENT
DTSTART;VALUE=DATE:20260206
DTEND;VALUE=DATE:20260208
DTSTAMP:20260422T093550
CREATED:20250102T215745Z
LAST-MODIFIED:20250709T192104Z
UID:10000440-1770336000-1770508799@arrnews.store
SUMMARY:Armidale and New England Show\, 6-7 February 2026
DESCRIPTION:
URL:https://arrnews.store/event/armidale-and-new-england-show-6-7-february-2026
LOCATION:Armidale Showground\, FMPH+8J\, Armidale\, New South Wales\, 5034\, Australia
CATEGORIES:Agricultural shows
END:VEVENT
BEGIN:VEVENT
DTSTART;VALUE=DATE:20260207
DTEND;VALUE=DATE:20260209
DTSTAMP:20260422T093550
CREATED:20240131T121111Z
LAST-MODIFIED:20250708T104803Z
UID:10000030-1770422400-1770595199@arrnews.store
SUMMARY:Rydal Show\, 7 February 2026
DESCRIPTION:
URL:https://arrnews.store/event/rydal-show-7-february-2026
LOCATION:Rydal Showground\, G29P+JGP\, Rydal\, New South Wales\, 2790\, Australia
CATEGORIES:Agricultural shows
END:VEVENT
BEGIN:VEVENT
DTSTART;VALUE=DATE:20260207
DTEND;VALUE=DATE:20260208
DTSTAMP:20260422T093550
CREATED:20240131T114413Z
LAST-MODIFIED:20250708T105119Z
UID:10000031-1770422400-1770508799@arrnews.store
SUMMARY:Uralla Show\, 7 February 2026
DESCRIPTION:
URL:https://arrnews.store/event/uralla-show-7-february-2026
LOCATION:Uralla Showground\, 9G34+GG6\, Uralla\, New South Wales\, 2358\, Australia
CATEGORIES:Agricultural shows
END:VEVENT
BEGIN:VEVENT
DTSTART;VALUE=DATE:20260207
DTEND;VALUE=DATE:20260208
DTSTAMP:20260422T093550
CREATED:20240131T120049Z
LAST-MODIFIED:20250708T104600Z
UID:10000032-1770422400-1770508799@arrnews.store
SUMMARY:Nimmitabel Show\, 7 February 2026
DESCRIPTION:
URL:https://arrnews.store/event/nimmitabel-show-7-february-2026
LOCATION:Nimmitabel Showground\, F7MH+R5\, Nimmitabel\, New South Wales\, 2631\, Australia
CATEGORIES:Agricultural shows
END:VEVENT
BEGIN:VEVENT
DTSTART;VALUE=DATE:20260207
DTEND;VALUE=DATE:20260209
DTSTAMP:20260422T093550
CREATED:20240203T094722Z
LAST-MODIFIED:20250708T104432Z
UID:10000041-1770422400-1770595199@arrnews.store
SUMMARY:Crookwell Show\, 7-8 February 2026
DESCRIPTION:
URL:https://arrnews.store/event/crookwell-show-7-8-february-2026
LOCATION:Crookwell Showground\, GFMG+RX\, Crookwell\, New South Wales\, 2583\, Australia
CATEGORIES:Agricultural shows
END:VEVENT
END:VCALENDAR