BEGIN:VCALENDAR
VERSION:2.0
PRODID:-//ARR.News Store - ECPv6.15.17//NONSGML v1.0//EN
CALSCALE:GREGORIAN
METHOD:PUBLISH
X-ORIGINAL-URL:https://arrnews.store
X-WR-CALDESC:Events for ARR.News Store
REFRESH-INTERVAL;VALUE=DURATION:PT1H
X-Robots-Tag:noindex
X-PUBLISHED-TTL:PT1H
BEGIN:VTIMEZONE
TZID:Australia/Sydney
BEGIN:STANDARD
TZOFFSETFROM:+1100
TZOFFSETTO:+1000
TZNAME:AEST
DTSTART:20240406T160000
END:STANDARD
BEGIN:DAYLIGHT
TZOFFSETFROM:+1000
TZOFFSETTO:+1100
TZNAME:AEDT
DTSTART:20241005T160000
END:DAYLIGHT
BEGIN:STANDARD
TZOFFSETFROM:+1100
TZOFFSETTO:+1000
TZNAME:AEST
DTSTART:20250405T160000
END:STANDARD
BEGIN:DAYLIGHT
TZOFFSETFROM:+1000
TZOFFSETTO:+1100
TZNAME:AEDT
DTSTART:20251004T160000
END:DAYLIGHT
BEGIN:STANDARD
TZOFFSETFROM:+1100
TZOFFSETTO:+1000
TZNAME:AEST
DTSTART:20260404T160000
END:STANDARD
BEGIN:DAYLIGHT
TZOFFSETFROM:+1000
TZOFFSETTO:+1100
TZNAME:AEDT
DTSTART:20261003T160000
END:DAYLIGHT
END:VTIMEZONE
BEGIN:VEVENT
DTSTART;VALUE=DATE:20251016
DTEND;VALUE=DATE:20251019
DTSTAMP:20260422T154128
CREATED:20241014T100546Z
LAST-MODIFIED:20250219T120252Z
UID:10000283-1760572800-1760831999@arrnews.store
SUMMARY:Lismore Show\, 16-18 October 2025
DESCRIPTION:
URL:https://arrnews.store/event/lismore-show-16-18-october-2025
LOCATION:Lismore Showgrounds\, 673F+9H\, North Lismore\, New South Wales\, 2480\, Australia
CATEGORIES:Agricultural shows
END:VEVENT
BEGIN:VEVENT
DTSTART;VALUE=DATE:20251017
DTEND;VALUE=DATE:20251019
DTSTAMP:20260422T154128
CREATED:20241014T220706Z
LAST-MODIFIED:20250219T120345Z
UID:10000284-1760659200-1760831999@arrnews.store
SUMMARY:Barham Koondrook Show\, 17-18 October 2025
DESCRIPTION:
URL:https://arrnews.store/event/barham-koondrook-show-17-18-october-2025
LOCATION:Barham Showgrounds\, 94GG+QJ9\, Barham\, New South Wales\, 3537\, Australia
CATEGORIES:Agricultural shows
END:VEVENT
BEGIN:VEVENT
DTSTART;VALUE=DATE:20251017
DTEND;VALUE=DATE:20251019
DTSTAMP:20260422T154128
CREATED:20241014T221401Z
LAST-MODIFIED:20250219T120430Z
UID:10000285-1760659200-1760831999@arrnews.store
SUMMARY:Cowra Spring Show\, 17-18 October 2025
DESCRIPTION:
URL:https://arrnews.store/event/cowra-spring-show-17-18-october-2025
LOCATION:Cowra Showground\, 5M9H+FC\, Cowra\, New South Wales\, 2794\, Australia
CATEGORIES:Agricultural shows
END:VEVENT
BEGIN:VEVENT
DTSTART;VALUE=DATE:20251017
DTEND;VALUE=DATE:20251019
DTSTAMP:20260422T154128
CREATED:20241014T221935Z
LAST-MODIFIED:20250219T120506Z
UID:10000286-1760659200-1760831999@arrnews.store
SUMMARY:Cootamundra Show\, 17-18 October 2025
DESCRIPTION:
URL:https://arrnews.store/event/cootamundra-show-17-18-october-2025
LOCATION:Cootamundra Showgrounds\, 926Q+4Q\, Cootamundra\, New South Wales\, 2590\, Australia
CATEGORIES:Agricultural shows
END:VEVENT
END:VCALENDAR