BEGIN:VCALENDAR
VERSION:2.0
PRODID:-//ARR.News Store - ECPv6.15.17//NONSGML v1.0//EN
CALSCALE:GREGORIAN
METHOD:PUBLISH
X-WR-CALNAME:ARR.News Store
X-ORIGINAL-URL:https://arrnews.store
X-WR-CALDESC:Events for ARR.News Store
REFRESH-INTERVAL;VALUE=DURATION:PT1H
X-Robots-Tag:noindex
X-PUBLISHED-TTL:PT1H
BEGIN:VTIMEZONE
TZID:Australia/Brisbane
BEGIN:STANDARD
TZOFFSETFROM:+1000
TZOFFSETTO:+1000
TZNAME:AEST
DTSTART:20240101T000000
END:STANDARD
END:VTIMEZONE
BEGIN:VTIMEZONE
TZID:Australia/Sydney
BEGIN:STANDARD
TZOFFSETFROM:+1100
TZOFFSETTO:+1000
TZNAME:AEST
DTSTART:20240406T160000
END:STANDARD
BEGIN:DAYLIGHT
TZOFFSETFROM:+1000
TZOFFSETTO:+1100
TZNAME:AEDT
DTSTART:20241005T160000
END:DAYLIGHT
BEGIN:STANDARD
TZOFFSETFROM:+1100
TZOFFSETTO:+1000
TZNAME:AEST
DTSTART:20250405T160000
END:STANDARD
BEGIN:DAYLIGHT
TZOFFSETFROM:+1000
TZOFFSETTO:+1100
TZNAME:AEDT
DTSTART:20251004T160000
END:DAYLIGHT
BEGIN:STANDARD
TZOFFSETFROM:+1100
TZOFFSETTO:+1000
TZNAME:AEST
DTSTART:20260404T160000
END:STANDARD
BEGIN:DAYLIGHT
TZOFFSETFROM:+1000
TZOFFSETTO:+1100
TZNAME:AEDT
DTSTART:20261003T160000
END:DAYLIGHT
END:VTIMEZONE
BEGIN:VTIMEZONE
TZID:Australia/Adelaide
BEGIN:STANDARD
TZOFFSETFROM:+1030
TZOFFSETTO:+0930
TZNAME:ACST
DTSTART:20240406T163000
END:STANDARD
BEGIN:DAYLIGHT
TZOFFSETFROM:+0930
TZOFFSETTO:+1030
TZNAME:ACDT
DTSTART:20241005T163000
END:DAYLIGHT
BEGIN:STANDARD
TZOFFSETFROM:+1030
TZOFFSETTO:+0930
TZNAME:ACST
DTSTART:20250405T163000
END:STANDARD
BEGIN:DAYLIGHT
TZOFFSETFROM:+0930
TZOFFSETTO:+1030
TZNAME:ACDT
DTSTART:20251004T163000
END:DAYLIGHT
BEGIN:STANDARD
TZOFFSETFROM:+1030
TZOFFSETTO:+0930
TZNAME:ACST
DTSTART:20260404T163000
END:STANDARD
BEGIN:DAYLIGHT
TZOFFSETFROM:+0930
TZOFFSETTO:+1030
TZNAME:ACDT
DTSTART:20261003T163000
END:DAYLIGHT
END:VTIMEZONE
BEGIN:VEVENT
DTSTART;VALUE=DATE:20250829
DTEND;VALUE=DATE:20250901
DTSTAMP:20260422T195119
CREATED:20250630T052741Z
LAST-MODIFIED:20250630T052741Z
UID:10000557-1756425600-1756684799@arrnews.store
SUMMARY:Gold Coast Show\, 29-31 August 2025
DESCRIPTION:
URL:https://arrnews.store/event/gold-coast-show-29-31-august-2025
LOCATION:Broadwater Parklands\, 2CM9+H2G\, Southport\, Queensland\, 4215\, Australia
CATEGORIES:Agricultural shows
END:VEVENT
BEGIN:VEVENT
DTSTART;VALUE=DATE:20250830
DTEND;VALUE=DATE:20250831
DTSTAMP:20260422T195119
CREATED:20240821T223107Z
LAST-MODIFIED:20250630T053045Z
UID:10000170-1756512000-1756598399@arrnews.store
SUMMARY:Lake Cargelligo Show\, 30 August 2025
DESCRIPTION:
URL:https://arrnews.store/event/lake-cargelligo-show-30-august-2025
LOCATION:Lake Cargelligo Showground\, M9RF+5R\, Cargelligo\, New South Wales\, 2672\, Australia
CATEGORIES:Agricultural shows
END:VEVENT
BEGIN:VEVENT
DTSTART;VALUE=DATE:20250830
DTEND;VALUE=DATE:20250831
DTSTAMP:20260422T195119
CREATED:20240825T072238Z
LAST-MODIFIED:20250630T053526Z
UID:10000169-1756512000-1756598399@arrnews.store
SUMMARY:Barellan Show\, 30 August 2025
DESCRIPTION:
URL:https://arrnews.store/event/barellan-show-30-august-2025
LOCATION:Barellan Showgrounds\, PHCJ+G7W\, Barellan\, New South Wales\, 2665\, Australia
CATEGORIES:Agricultural shows
END:VEVENT
BEGIN:VEVENT
DTSTART;VALUE=DATE:20250830
DTEND;VALUE=DATE:20250901
DTSTAMP:20260422T195119
CREATED:20240818T110156Z
LAST-MODIFIED:20250630T010217Z
UID:10000163-1756512000-1756684799@arrnews.store
SUMMARY:Penrith Show\, 30-31 August 2025
DESCRIPTION:
URL:https://arrnews.store/event/penrith-show-30-31-august-2025
LOCATION:Penrith Showground\, 6MVQ+CM\, Penrith\, New South Wales\, 2750\, Australia
CATEGORIES:Agricultural shows
END:VEVENT
BEGIN:VEVENT
DTSTART;VALUE=DATE:20250830
DTEND;VALUE=DATE:20250901
DTSTAMP:20260422T195119
CREATED:20240818T110433Z
LAST-MODIFIED:20241228T214520Z
UID:10000171-1756512000-1756684799@arrnews.store
SUMMARY:Wentworth Show\, 30-31 August 2025
DESCRIPTION:
URL:https://arrnews.store/event/wentworth-annual-show-4-5-january-2025
LOCATION:Wentworth Showgrounds\, WW2H+4H\, Wentworth\, New South Wales\, 2648\, Australia
CATEGORIES:Agricultural shows
END:VEVENT
BEGIN:VEVENT
DTSTART;VALUE=DATE:20250830
DTEND;VALUE=DATE:20250908
DTSTAMP:20260422T195119
CREATED:20240826T233317Z
LAST-MODIFIED:20250630T054523Z
UID:10000180-1756512000-1757289599@arrnews.store
SUMMARY:Royal Adelaide Show\, 30 August - 7 September 2025
DESCRIPTION:
URL:https://arrnews.store/event/royal-adelaide-show-30-august-7-september-2025
LOCATION:Adelaide Showground\, 3H3P+GM\, Wayville\, South Australia\, 5034\, Australia
CATEGORIES:Agricultural shows
END:VEVENT
END:VCALENDAR