BEGIN:VCALENDAR
VERSION:2.0
PRODID:-//ARR.News Store - ECPv6.15.17//NONSGML v1.0//EN
CALSCALE:GREGORIAN
METHOD:PUBLISH
X-WR-CALNAME:ARR.News Store
X-ORIGINAL-URL:https://arrnews.store
X-WR-CALDESC:Events for ARR.News Store
REFRESH-INTERVAL;VALUE=DURATION:PT1H
X-Robots-Tag:noindex
X-PUBLISHED-TTL:PT1H
BEGIN:VTIMEZONE
TZID:Australia/Brisbane
BEGIN:STANDARD
TZOFFSETFROM:+1000
TZOFFSETTO:+1000
TZNAME:AEST
DTSTART:20240101T000000
END:STANDARD
END:VTIMEZONE
BEGIN:VEVENT
DTSTART;VALUE=DATE:20250829
DTEND;VALUE=DATE:20250901
DTSTAMP:20260422T212557
CREATED:20250630T052741Z
LAST-MODIFIED:20250630T052741Z
UID:10000557-1756425600-1756684799@arrnews.store
SUMMARY:Gold Coast Show\, 29-31 August 2025
DESCRIPTION:
URL:https://arrnews.store/event/gold-coast-show-29-31-august-2025
LOCATION:Broadwater Parklands\, 2CM9+H2G\, Southport\, Queensland\, 4215\, Australia
CATEGORIES:Agricultural shows
END:VEVENT
END:VCALENDAR