BEGIN:VCALENDAR
VERSION:2.0
PRODID:-//ARR.News Store - ECPv6.15.17//NONSGML v1.0//EN
CALSCALE:GREGORIAN
METHOD:PUBLISH
X-ORIGINAL-URL:https://arrnews.store
X-WR-CALDESC:Events for ARR.News Store
REFRESH-INTERVAL;VALUE=DURATION:PT1H
X-Robots-Tag:noindex
X-PUBLISHED-TTL:PT1H
BEGIN:VTIMEZONE
TZID:Australia/Sydney
BEGIN:STANDARD
TZOFFSETFROM:+1100
TZOFFSETTO:+1000
TZNAME:AEST
DTSTART:20240406T160000
END:STANDARD
BEGIN:DAYLIGHT
TZOFFSETFROM:+1000
TZOFFSETTO:+1100
TZNAME:AEDT
DTSTART:20241005T160000
END:DAYLIGHT
BEGIN:STANDARD
TZOFFSETFROM:+1100
TZOFFSETTO:+1000
TZNAME:AEST
DTSTART:20250405T160000
END:STANDARD
BEGIN:DAYLIGHT
TZOFFSETFROM:+1000
TZOFFSETTO:+1100
TZNAME:AEDT
DTSTART:20251004T160000
END:DAYLIGHT
BEGIN:STANDARD
TZOFFSETFROM:+1100
TZOFFSETTO:+1000
TZNAME:AEST
DTSTART:20260404T160000
END:STANDARD
BEGIN:DAYLIGHT
TZOFFSETFROM:+1000
TZOFFSETTO:+1100
TZNAME:AEDT
DTSTART:20261003T160000
END:DAYLIGHT
END:VTIMEZONE
BEGIN:VEVENT
DTSTART;VALUE=DATE:20251031
DTEND;VALUE=DATE:20251102
DTSTAMP:20260422T123704
CREATED:20241027T212756Z
LAST-MODIFIED:20250220T173423Z
UID:10000366-1761868800-1762041599@arrnews.store
SUMMARY:Murwillumbah Show\, 31 October - 1 November 2025
DESCRIPTION:
URL:https://arrnews.store/event/murwillumbah-show-31-october-1-november-2025
LOCATION:Murwillumbah Showground\, M9HV+32C\, Murwillumbah\, New South Wales\, 2484\, Australia
CATEGORIES:Agricultural shows
END:VEVENT
BEGIN:VEVENT
DTSTART;VALUE=DATE:20251108
DTEND;VALUE=DATE:20251110
DTSTAMP:20260422T123704
CREATED:20241104T083038Z
LAST-MODIFIED:20250225T182855Z
UID:10000367-1762560000-1762732799@arrnews.store
SUMMARY:Dungog Show\, 8-9 November 2025
DESCRIPTION:
URL:https://arrnews.store/event/dungog-show-8-9-november-2025
LOCATION:Dungog Showground\, HQR2+P4\, Dungog\, New South Wales\, 2420\, Australia
CATEGORIES:Agricultural shows
END:VEVENT
BEGIN:VEVENT
DTSTART;VALUE=DATE:20251109
DTEND;VALUE=DATE:20251110
DTSTAMP:20260422T123704
CREATED:20241104T090038Z
LAST-MODIFIED:20250225T183356Z
UID:10000369-1762646400-1762732799@arrnews.store
SUMMARY:Neville Show\, 9 November 2025
DESCRIPTION:
URL:https://arrnews.store/event/neville-show-9-november-2025
LOCATION:Neville Showground\, Pascoe Street\, Neville\, New South Wales\, 2799\, Australia
CATEGORIES:Agricultural shows
END:VEVENT
BEGIN:VEVENT
DTSTART;VALUE=DATE:20251109
DTEND;VALUE=DATE:20251111
DTSTAMP:20260422T123704
CREATED:20241104T103950Z
LAST-MODIFIED:20250225T183543Z
UID:10000370-1762646400-1762819199@arrnews.store
SUMMARY:Queanbeyan Show\, 9-10 November 2025
DESCRIPTION:
URL:https://arrnews.store/event/queanbeyan-show-9-10-november-2025
LOCATION:Queanbeyan Showground\, J6VJ+CG\, Queanbeyan\, New South Wales\,\, 2620\, Australia
CATEGORIES:Agricultural shows
END:VEVENT
BEGIN:VEVENT
DTSTART;VALUE=DATE:20251114
DTEND;VALUE=DATE:20251116
DTSTAMP:20260422T123704
CREATED:20241111T221133Z
LAST-MODIFIED:20250225T183838Z
UID:10000373-1763078400-1763251199@arrnews.store
SUMMARY:Bangalow Show\, 14-15 November 2025
DESCRIPTION:
URL:https://arrnews.store/event/bangalow-show-14-15-november-2025
LOCATION:Bangalow Showground\, 8G8G+J9\, Bangalow\, New South Wales\, 2479\, Australia
CATEGORIES:Agricultural shows
END:VEVENT
BEGIN:VEVENT
DTSTART;VALUE=DATE:20251121
DTEND;VALUE=DATE:20251123
DTSTAMP:20260422T123704
CREATED:20241111T220949Z
LAST-MODIFIED:20250225T184258Z
UID:10000372-1763683200-1763855999@arrnews.store
SUMMARY:Bulahdelah Show\, 21-22 November 2025
DESCRIPTION:
URL:https://arrnews.store/event/bulahdelah-show-21-22-november-2025
LOCATION:Bulahdelah Showgrounds\, H6V3+JH\, Bulahdelah\, New South Wales\, 2423\, Australia
CATEGORIES:Agricultural shows
END:VEVENT
BEGIN:VEVENT
DTSTART;VALUE=DATE:20251121
DTEND;VALUE=DATE:20251123
DTSTAMP:20260422T123704
CREATED:20241118T220659Z
LAST-MODIFIED:20250225T184439Z
UID:10000376-1763683200-1763855999@arrnews.store
SUMMARY:Dorrigo Show\, 21-22 November 2025
DESCRIPTION:
URL:https://arrnews.store/event/dorrigo-show-21-22-november-2025
LOCATION:Dorrigo Showground\, MP74+GC\, Dorrigo\, New South Wales\, 2453\, Australia
CATEGORIES:Agricultural shows
END:VEVENT
BEGIN:VEVENT
DTSTART;VALUE=DATE:20251123
DTEND;VALUE=DATE:20251124
DTSTAMP:20260422T123704
CREATED:20241118T223757Z
LAST-MODIFIED:20250225T185217Z
UID:10000377-1763856000-1763942399@arrnews.store
SUMMARY:Minto Show\, 23 November 2025
DESCRIPTION:
URL:https://arrnews.store/event/minto-show-23-november-2025
LOCATION:Menangle Park Paceway\, VPWV+PR\, Menangle Park\, New South Wales\, 2563\, Australia
CATEGORIES:Agricultural shows
END:VEVENT
END:VCALENDAR